BEGIN:VCALENDAR
VERSION:2.0
PRODID:-//Communauté de Communes des Paysages de la Champagne - ECPv6.15.17//NONSGML v1.0//EN
CALSCALE:GREGORIAN
METHOD:PUBLISH
X-WR-CALNAME:Communauté de Communes des Paysages de la Champagne
X-ORIGINAL-URL:https://ccpc51.fr
X-WR-CALDESC:Évènements pour Communauté de Communes des Paysages de la Champagne
REFRESH-INTERVAL;VALUE=DURATION:PT1H
X-Robots-Tag:noindex
X-PUBLISHED-TTL:PT1H
BEGIN:VTIMEZONE
TZID:Europe/Paris
BEGIN:DAYLIGHT
TZOFFSETFROM:+0100
TZOFFSETTO:+0200
TZNAME:CEST
DTSTART:20250330T010000
END:DAYLIGHT
BEGIN:STANDARD
TZOFFSETFROM:+0200
TZOFFSETTO:+0100
TZNAME:CET
DTSTART:20251026T010000
END:STANDARD
BEGIN:DAYLIGHT
TZOFFSETFROM:+0100
TZOFFSETTO:+0200
TZNAME:CEST
DTSTART:20260329T010000
END:DAYLIGHT
BEGIN:STANDARD
TZOFFSETFROM:+0200
TZOFFSETTO:+0100
TZNAME:CET
DTSTART:20261025T010000
END:STANDARD
BEGIN:DAYLIGHT
TZOFFSETFROM:+0100
TZOFFSETTO:+0200
TZNAME:CEST
DTSTART:20270328T010000
END:DAYLIGHT
BEGIN:STANDARD
TZOFFSETFROM:+0200
TZOFFSETTO:+0100
TZNAME:CET
DTSTART:20271031T010000
END:STANDARD
END:VTIMEZONE
BEGIN:VEVENT
DTSTART;TZID=Europe/Paris:20260404T140000
DTEND;TZID=Europe/Paris:20261101T180000
DTSTAMP:20260425T032653
CREATED:20260407T151806Z
LAST-MODIFIED:20260407T151806Z
UID:10002226-1775311200-1793556000@ccpc51.fr
SUMMARY:Exposition : "Vous ne nous reconnaissez pas ? Et pourtant… vous nous connaissez."
DESCRIPTION:Le Mémorial des Batailles de la Marne vous invite à découvrir une exposition inédite et émouvante installée dans la crypte : Dix soldats. Dix destins. Une mémoire retrouvée. \nL’ossuaire du Mémorial renferme les ossements d’environ 1 500 soldats de toutes armées confondues\, regroupés dans 130 cercueils. Sur des champs de bataille jonchés de milliers de cadavres\, identifier les restes relevait de l’impossible. Onze soldats seulement ont pu être reconnus\, grâce à leurs plaques ou médailles militaires. Cette exposition leur redonne un visage et raconte leur histoire.
URL:https://ccpc51.fr/evenement/exposition-vous-ne-nous-reconnaissez-pas-et-pourtant-vous-nous-connaissez/
LOCATION:Mémorial des batailles de la Marne\, DORMANS\, Rue du Château\, DORMANS\, 51700\, France
CATEGORIES:Commémoration,Exposition
ATTACH;FMTTYPE=image/jpeg:https://ccpc51.fr/wp-content/uploads/2026/04/expo-memo-11-novembre.jpg
END:VEVENT
BEGIN:VEVENT
DTSTART;TZID=Europe/Paris:20260425T090000
DTEND;TZID=Europe/Paris:20260426T183000
DTSTAMP:20260425T032653
CREATED:20251216T132339Z
LAST-MODIFIED:20251216T132359Z
UID:10001573-1777107600-1777228200@ccpc51.fr
SUMMARY:Marché aux fleurs de Dormans
DESCRIPTION:L’Association pour le Fleurissement de Dormans et ses Hameaux organise son traditionnel marché aux fleurs les samedi 25 et dimanche 26 avril 2026 dans le Parc du Château. \nDe nombreux exposants seront présents. \nEntrée libre /Restauration sur place. \nPlus d’infos au 03 26 59 20 47 ou au 06 27 49 70 18
URL:https://ccpc51.fr/evenement/marche-aux-fleurs-de-dormans/
LOCATION:Parc du Château\, Dormans\, Parc du Château\, DORMANS\, 51700\, France
CATEGORIES:Marché
ATTACH;FMTTYPE=image/jpeg:https://ccpc51.fr/wp-content/uploads/2025/12/marche-aux-fleurs-4.jpg
END:VEVENT
BEGIN:VEVENT
DTSTART;TZID=Europe/Paris:20260425T143000
DTEND;TZID=Europe/Paris:20260425T143000
DTSTAMP:20260425T032653
CREATED:20260323T151621Z
LAST-MODIFIED:20260323T151621Z
UID:10002176-1777127400-1777127400@ccpc51.fr
SUMMARY:Les Paysages de l'Imaginaire - Balade contée de Printemps
DESCRIPTION:Et si les paysages que vous traversiez cachaient des histoires oubliées ?\nFaites la connaissance de Musette et Gaby\, cartographes de l’imaginaire\, dans des balades contées au cœur des paysages de la Champagne. À chaque saison\, un nouveau lieu se révèle… et avec lui\, des secrets enfouis. Des histoires de chevaliers et de magie ou d’amours interdits.\nMusette a accepté de partager avec vous les histoires qu’elle a rassemblées dans ses précieux carnets. Découvrez le fruit de ses expéditions dans les Paysages de l’imaginaire. \nOhé ! C’est moi\, Musette ! \nVous savez pourquoi les mésanges pleurent ? Non ? Moi si ! Et j’ai tout noté dans mon carnet. Si ça vous intéresse\, je vous promets de vous lire cette histoire… enfin dès que j’aurai remis la main sur ce fichu carnet. \nJe peux déjà vous dire qu’il y aura un village\, Bellesource\, coincé entre quatre royaumes en guerre. Un jardin magnifique\, des créatures extraordinaires\, des fruits qui embaument toute la région… Et quatre chevaliers complètement idiots qui passent leur temps à se battre. \nAlors\, vous venez vous promener avec nous ? On vous attend à Bellesource… enfin\, là où Bellesource se trouvait. Parce que maintenant… oh non\, j’en ai trop dit ! \nRetrouvez-nous\, Gaby et moi\, au Jardin de l’Eau Vive le 25 avril à La Ville-sous-Orbais pour 14h30.\nUne boisson vous sera offerte à l’issue de la balade. \n  \nTarifs : contacter l’office de tourisme au 03 26 58 32 86 ou à contact@tourisme-paysages-champagne.com \nde préférence sur réservation / places limitées
URL:https://ccpc51.fr/evenement/les-paysages-de-limaginaire-balade-contee-de-printemps/
LOCATION:JARDIN DE L’EAU VIVE à LA VILLE-SOUS-ORBAIS\, 7 Route du Breuil\, La Ville-sous-Orbais\, 51270
CATEGORIES:Évènement pour enfants
ATTACH;FMTTYPE=image/jpeg:https://ccpc51.fr/wp-content/uploads/2026/03/mesange-regiondoetevent-002.jpg
ORGANIZER;CN="Office de tourisme des Paysages de la Champagne":MAILTO:contact@tourisme-paysages-champagne.com
END:VEVENT
END:VCALENDAR