BEGIN:VCALENDAR
VERSION:2.0
PRODID:-//Communauté de Communes des Paysages de la Champagne - ECPv6.15.17//NONSGML v1.0//EN
CALSCALE:GREGORIAN
METHOD:PUBLISH
X-WR-CALNAME:Communauté de Communes des Paysages de la Champagne
X-ORIGINAL-URL:https://ccpc51.fr
X-WR-CALDESC:Évènements pour Communauté de Communes des Paysages de la Champagne
REFRESH-INTERVAL;VALUE=DURATION:PT1H
X-Robots-Tag:noindex
X-PUBLISHED-TTL:PT1H
BEGIN:VTIMEZONE
TZID:Europe/Paris
BEGIN:DAYLIGHT
TZOFFSETFROM:+0100
TZOFFSETTO:+0200
TZNAME:CEST
DTSTART:20240331T010000
END:DAYLIGHT
BEGIN:STANDARD
TZOFFSETFROM:+0200
TZOFFSETTO:+0100
TZNAME:CET
DTSTART:20241027T010000
END:STANDARD
BEGIN:DAYLIGHT
TZOFFSETFROM:+0100
TZOFFSETTO:+0200
TZNAME:CEST
DTSTART:20250330T010000
END:DAYLIGHT
BEGIN:STANDARD
TZOFFSETFROM:+0200
TZOFFSETTO:+0100
TZNAME:CET
DTSTART:20251026T010000
END:STANDARD
BEGIN:DAYLIGHT
TZOFFSETFROM:+0100
TZOFFSETTO:+0200
TZNAME:CEST
DTSTART:20260329T010000
END:DAYLIGHT
BEGIN:STANDARD
TZOFFSETFROM:+0200
TZOFFSETTO:+0100
TZNAME:CET
DTSTART:20261025T010000
END:STANDARD
END:VTIMEZONE
BEGIN:VEVENT
DTSTART;TZID=Europe/Paris:20250222T143000
DTEND;TZID=Europe/Paris:20250222T170000
DTSTAMP:20260420T083324
CREATED:20250124T111633Z
LAST-MODIFIED:20250124T111921Z
UID:10000670-1740234600-1740243600@ccpc51.fr
SUMMARY:Kids Trail
DESCRIPTION:Le Racing Club de Dormans vous invite à participer à la 2ère édition du Kids Trail des « Boucles du Château »\, le Samedi 22 Février 2025\, au départ du Parc du Château à Dormans. \n3 courses par catégories d’âges sont proposées :\n– 14h30 : Départ des 5-9 ans (nés de 2016 à 2020) pour 8 minutes de course sans classement\n– 15h00 : Départ des 10-11 ans (nés de 2014-2015) pour 1500 m de course sans classement\n– 15h30 : Départ des 12-15 ans (nés de 2010 à 2013) pour 3000 m chronométré \n***Pas d’inscriptions sur place*** \nTarif : 3 €
URL:https://ccpc51.fr/evenement/kids-trail-2/
LOCATION:Parc du Château de Dormans\, Avenue des Victoires\, DORMANS
CATEGORIES:Compétition Sportive,Évènement pour enfants
ATTACH;FMTTYPE=image/jpeg:https://ccpc51.fr/wp-content/uploads/2025/01/kids-trail-2.jpg
ORGANIZER;CN="Racing Club de Dormans":MAILTO:contact@racingclub-dormans.com
END:VEVENT
BEGIN:VEVENT
DTSTART;TZID=Europe/Paris:20250222T183000
DTEND;TZID=Europe/Paris:20250222T210000
DTSTAMP:20260420T083324
CREATED:20241226T163743Z
LAST-MODIFIED:20250124T112117Z
UID:10000663-1740249000-1740258000@ccpc51.fr
SUMMARY:Les Boucles du Château - 5ème édition
DESCRIPTION:Le Racing Club de Dormans vous invite à participer à la 5ème édition des « Boucles du Château »\, le Samedi 22 Février 2025\, au départ du Parc du Château à Dormans. \n12km en nocturne / épreuve chronométrée par puce électronique \nInscriptions en ligne sur le site : information à venir \nTarif : 10 € (participant(e) né(e) avant 2009)
URL:https://ccpc51.fr/evenement/les-boucles-du-chateau-5eme-edition/
LOCATION:Parc du Château de Dormans\, Avenue des Victoires\, DORMANS
CATEGORIES:Compétition Sportive
ATTACH;FMTTYPE=image/jpeg:https://ccpc51.fr/wp-content/uploads/2024/12/les-boucles-du-chateau-dormans.jpg
ORGANIZER;CN="Racing Club de Dormans":MAILTO:contact@racingclub-dormans.com
END:VEVENT
END:VCALENDAR