BEGIN:VCALENDAR
VERSION:2.0
PRODID:-//Communauté de Communes des Paysages de la Champagne - ECPv6.15.17//NONSGML v1.0//EN
CALSCALE:GREGORIAN
METHOD:PUBLISH
X-WR-CALNAME:Communauté de Communes des Paysages de la Champagne
X-ORIGINAL-URL:https://ccpc51.fr
X-WR-CALDESC:Évènements pour Communauté de Communes des Paysages de la Champagne
REFRESH-INTERVAL;VALUE=DURATION:PT1H
X-Robots-Tag:noindex
X-PUBLISHED-TTL:PT1H
BEGIN:VTIMEZONE
TZID:Europe/Paris
BEGIN:DAYLIGHT
TZOFFSETFROM:+0100
TZOFFSETTO:+0200
TZNAME:CEST
DTSTART:20240331T010000
END:DAYLIGHT
BEGIN:STANDARD
TZOFFSETFROM:+0200
TZOFFSETTO:+0100
TZNAME:CET
DTSTART:20241027T010000
END:STANDARD
BEGIN:DAYLIGHT
TZOFFSETFROM:+0100
TZOFFSETTO:+0200
TZNAME:CEST
DTSTART:20250330T010000
END:DAYLIGHT
BEGIN:STANDARD
TZOFFSETFROM:+0200
TZOFFSETTO:+0100
TZNAME:CET
DTSTART:20251026T010000
END:STANDARD
BEGIN:DAYLIGHT
TZOFFSETFROM:+0100
TZOFFSETTO:+0200
TZNAME:CEST
DTSTART:20260329T010000
END:DAYLIGHT
BEGIN:STANDARD
TZOFFSETFROM:+0200
TZOFFSETTO:+0100
TZNAME:CET
DTSTART:20261025T010000
END:STANDARD
END:VTIMEZONE
BEGIN:VEVENT
DTSTART;VALUE=DATE:20250427
DTEND;VALUE=DATE:20250428
DTSTAMP:20260420T044954
CREATED:20250414T154028Z
LAST-MODIFIED:20250414T155106Z
UID:10000813-1745712000-1745798399@ccpc51.fr
SUMMARY:Concours de pétanques à Mareuil-en-Brie
DESCRIPTION:L’Association Mareuil Animation organise son concours de pétanques\, le samedi 27 avril 2025. \n***Buvette et restauration sur place*** \nTarif : 15 € (comprend inscription + repas du midi + apéro offert)
URL:https://ccpc51.fr/evenement/concours-de-petanques-a-mareuil-en-brie/
LOCATION:Salle des fêtes de Mareuil en Brie\, allée des écossières\, MAREUIL-EN-BRIE\, 51270
CATEGORIES:Compétition Sportive,Concours de Pétanque
ATTACH;FMTTYPE=image/jpeg:https://ccpc51.fr/wp-content/uploads/2025/04/petanque-6.jpg
ORGANIZER;CN="Association Mareuil Animation":MAILTO:animationsmareuil@gmail.com
END:VEVENT
END:VCALENDAR