BEGIN:VCALENDAR
VERSION:2.0
PRODID:-//Communauté de Communes des Paysages de la Champagne - ECPv6.15.17//NONSGML v1.0//EN
CALSCALE:GREGORIAN
METHOD:PUBLISH
X-ORIGINAL-URL:https://ccpc51.fr
X-WR-CALDESC:Évènements pour Communauté de Communes des Paysages de la Champagne
REFRESH-INTERVAL;VALUE=DURATION:PT1H
X-Robots-Tag:noindex
X-PUBLISHED-TTL:PT1H
BEGIN:VTIMEZONE
TZID:Europe/Paris
BEGIN:DAYLIGHT
TZOFFSETFROM:+0100
TZOFFSETTO:+0200
TZNAME:CEST
DTSTART:20240331T010000
END:DAYLIGHT
BEGIN:STANDARD
TZOFFSETFROM:+0200
TZOFFSETTO:+0100
TZNAME:CET
DTSTART:20241027T010000
END:STANDARD
BEGIN:DAYLIGHT
TZOFFSETFROM:+0100
TZOFFSETTO:+0200
TZNAME:CEST
DTSTART:20250330T010000
END:DAYLIGHT
BEGIN:STANDARD
TZOFFSETFROM:+0200
TZOFFSETTO:+0100
TZNAME:CET
DTSTART:20251026T010000
END:STANDARD
BEGIN:DAYLIGHT
TZOFFSETFROM:+0100
TZOFFSETTO:+0200
TZNAME:CEST
DTSTART:20260329T010000
END:DAYLIGHT
BEGIN:STANDARD
TZOFFSETFROM:+0200
TZOFFSETTO:+0100
TZNAME:CET
DTSTART:20261025T010000
END:STANDARD
END:VTIMEZONE
BEGIN:VEVENT
DTSTART;TZID=Europe/Paris:20250614T103000
DTEND;TZID=Europe/Paris:20250615T180000
DTSTAMP:20260419T184948
CREATED:20250604T123332Z
LAST-MODIFIED:20250604T123332Z
UID:10000888-1749897000-1750010400@ccpc51.fr
SUMMARY:Journées Portes ouvertes au Champagne H. David Heucq
DESCRIPTION:Profitez d’un buffet-concert !\n***buffet sur réservation – 35€ par personne***\n\nVous retrouverez également vos producteurs préférés :\n– Les Délices D’Isabelle & des produits artisanaux du Gers\n– Le Domaine Chaumard & leurs vins du Ventoux\, huile d’olive…\n– Coco Créations\, déco et accessoires fait main\n– L’Atelier de Sophie & ses bijoux\n– À la Découverte des Vins par Fabienne\n\nDécouvrez Nathalie & Didier qui animeront le repas !
URL:https://ccpc51.fr/evenement/journees-portes-ouvertes-au-champagne-h-david-heucq/
LOCATION:CHAMPAGNE HENRI DAVID-HEUCQ\, 3 route de Romery\, FLEURY LA RIVIERE\, 51480
CATEGORIES:Concert,Portes Ouvertes
ATTACH;FMTTYPE=image/jpeg:https://ccpc51.fr/wp-content/uploads/2025/06/po-champagne-henri-david-heucq.jpg
END:VEVENT
BEGIN:VEVENT
DTSTART;VALUE=DATE:20250621
DTEND;VALUE=DATE:20250622
DTSTAMP:20260419T184948
CREATED:20250207T153539Z
LAST-MODIFIED:20250207T153539Z
UID:10000710-1750464000-1750550399@ccpc51.fr
SUMMARY:Fête de la Musique
DESCRIPTION:Les Musicales de Dormans vous donnent rendez-vous le samedi 21 juin 2025 au parc du Château de Dormans pour célébrer la musique avec Animation Blue Chill’s Band. \n***Buvette & restauration sur place***
URL:https://ccpc51.fr/evenement/fete-de-la-musique/
LOCATION:Parc du Château de Dormans\, Avenue des Victoires\, DORMANS
CATEGORIES:Concert,Soirée à thème
ATTACH;FMTTYPE=image/jpeg:https://ccpc51.fr/wp-content/uploads/2025/02/grades-5358535-1280.jpg
END:VEVENT
END:VCALENDAR