BEGIN:VCALENDAR
VERSION:2.0
PRODID:-//Communauté de Communes des Paysages de la Champagne - ECPv6.15.17//NONSGML v1.0//EN
CALSCALE:GREGORIAN
METHOD:PUBLISH
X-ORIGINAL-URL:https://ccpc51.fr
X-WR-CALDESC:Évènements pour Communauté de Communes des Paysages de la Champagne
REFRESH-INTERVAL;VALUE=DURATION:PT1H
X-Robots-Tag:noindex
X-PUBLISHED-TTL:PT1H
BEGIN:VTIMEZONE
TZID:Europe/Paris
BEGIN:DAYLIGHT
TZOFFSETFROM:+0100
TZOFFSETTO:+0200
TZNAME:CEST
DTSTART:20240331T010000
END:DAYLIGHT
BEGIN:STANDARD
TZOFFSETFROM:+0200
TZOFFSETTO:+0100
TZNAME:CET
DTSTART:20241027T010000
END:STANDARD
BEGIN:DAYLIGHT
TZOFFSETFROM:+0100
TZOFFSETTO:+0200
TZNAME:CEST
DTSTART:20250330T010000
END:DAYLIGHT
BEGIN:STANDARD
TZOFFSETFROM:+0200
TZOFFSETTO:+0100
TZNAME:CET
DTSTART:20251026T010000
END:STANDARD
BEGIN:DAYLIGHT
TZOFFSETFROM:+0100
TZOFFSETTO:+0200
TZNAME:CEST
DTSTART:20260329T010000
END:DAYLIGHT
BEGIN:STANDARD
TZOFFSETFROM:+0200
TZOFFSETTO:+0100
TZNAME:CET
DTSTART:20261025T010000
END:STANDARD
END:VTIMEZONE
BEGIN:VEVENT
DTSTART;VALUE=DATE:20250713
DTEND;VALUE=DATE:20250715
DTSTAMP:20260419T170014
CREATED:20250207T160937Z
LAST-MODIFIED:20250418T080416Z
UID:10000714-1752364800-1752537599@ccpc51.fr
SUMMARY:Festivités du 14 juillet
DESCRIPTION:La Municipalité de Dormans vous invite à participer aux festivités de la Fête Nationale\, les dimanche 13 et lundi 14 juillet 2025. \n*** Au programme ***\nLe dimanche 13 juillet :\n– retraite aux flambeaux (départ du parking de la gare SNCF)\n– feu d’artifice\n– Bal de nuit au château \nLe lundi 14 juillet :\n– Pêche républicaine (gratuite) à l’étang du château\n– Dépôt de gerbe au monument aux morts.\n– Casse croûte républicain & fête foraine\n– Concert de la musique municipale au Mémorial
URL:https://ccpc51.fr/evenement/festivites-du-14-juillet/
LOCATION:Parc du Château de Dormans\, Avenue des Victoires\, DORMANS
CATEGORIES:Bal,Concert
ATTACH;FMTTYPE=image/jpeg:https://ccpc51.fr/wp-content/uploads/2025/02/14-juillet-2.jpg
END:VEVENT
END:VCALENDAR