BEGIN:VCALENDAR
VERSION:2.0
PRODID:-//Communauté de Communes des Paysages de la Champagne - ECPv6.15.17//NONSGML v1.0//EN
CALSCALE:GREGORIAN
METHOD:PUBLISH
X-WR-CALNAME:Communauté de Communes des Paysages de la Champagne
X-ORIGINAL-URL:https://ccpc51.fr
X-WR-CALDESC:Évènements pour Communauté de Communes des Paysages de la Champagne
REFRESH-INTERVAL;VALUE=DURATION:PT1H
X-Robots-Tag:noindex
X-PUBLISHED-TTL:PT1H
BEGIN:VTIMEZONE
TZID:Europe/Paris
BEGIN:DAYLIGHT
TZOFFSETFROM:+0100
TZOFFSETTO:+0200
TZNAME:CEST
DTSTART:20230326T010000
END:DAYLIGHT
BEGIN:STANDARD
TZOFFSETFROM:+0200
TZOFFSETTO:+0100
TZNAME:CET
DTSTART:20231029T010000
END:STANDARD
BEGIN:DAYLIGHT
TZOFFSETFROM:+0100
TZOFFSETTO:+0200
TZNAME:CEST
DTSTART:20240331T010000
END:DAYLIGHT
BEGIN:STANDARD
TZOFFSETFROM:+0200
TZOFFSETTO:+0100
TZNAME:CET
DTSTART:20241027T010000
END:STANDARD
BEGIN:DAYLIGHT
TZOFFSETFROM:+0100
TZOFFSETTO:+0200
TZNAME:CEST
DTSTART:20250330T010000
END:DAYLIGHT
BEGIN:STANDARD
TZOFFSETFROM:+0200
TZOFFSETTO:+0100
TZNAME:CET
DTSTART:20251026T010000
END:STANDARD
END:VTIMEZONE
BEGIN:VEVENT
DTSTART;TZID=Europe/Paris:20241215T143000
DTEND;TZID=Europe/Paris:20241215T183000
DTSTAMP:20260424T104631
CREATED:20241128T170741Z
LAST-MODIFIED:20241128T170741Z
UID:10000658-1734273000-1734287400@ccpc51.fr
SUMMARY:L'Arbre de Noël
DESCRIPTION:Le Comité des Fêtes de La Caure organise son arbre de Noël\, le dimanche 15 décembre 2024\, à la salle des fêtes du village. \nAu programme : jeux de société\, vin chaud\, gaufres\, châtaignes pour les grands et bricolage de Noël\, un cadeau surprise\, boisson et goûter pour les petits … Mais aussi visite du Père Noël et balade en calèche ! \n***Famille et amis sont les bienvenus/de préférence sur réservation avant le 5 décembre***
URL:https://ccpc51.fr/evenement/larbre-de-noel/
LOCATION:Salle des fêtes à LA CAURE
CATEGORIES:Évènement pour enfants,Spectacle
ATTACH;FMTTYPE=image/jpeg:https://ccpc51.fr/wp-content/uploads/2024/11/noel-la-caure.jpg
END:VEVENT
END:VCALENDAR