BEGIN:VCALENDAR
VERSION:2.0
PRODID:-//Communauté de Communes des Paysages de la Champagne - ECPv6.15.17//NONSGML v1.0//EN
CALSCALE:GREGORIAN
METHOD:PUBLISH
X-ORIGINAL-URL:https://ccpc51.fr
X-WR-CALDESC:Évènements pour Communauté de Communes des Paysages de la Champagne
REFRESH-INTERVAL;VALUE=DURATION:PT1H
X-Robots-Tag:noindex
X-PUBLISHED-TTL:PT1H
BEGIN:VTIMEZONE
TZID:Europe/Paris
BEGIN:DAYLIGHT
TZOFFSETFROM:+0100
TZOFFSETTO:+0200
TZNAME:CEST
DTSTART:20240331T010000
END:DAYLIGHT
BEGIN:STANDARD
TZOFFSETFROM:+0200
TZOFFSETTO:+0100
TZNAME:CET
DTSTART:20241027T010000
END:STANDARD
BEGIN:DAYLIGHT
TZOFFSETFROM:+0100
TZOFFSETTO:+0200
TZNAME:CEST
DTSTART:20250330T010000
END:DAYLIGHT
BEGIN:STANDARD
TZOFFSETFROM:+0200
TZOFFSETTO:+0100
TZNAME:CET
DTSTART:20251026T010000
END:STANDARD
BEGIN:DAYLIGHT
TZOFFSETFROM:+0100
TZOFFSETTO:+0200
TZNAME:CEST
DTSTART:20260329T010000
END:DAYLIGHT
BEGIN:STANDARD
TZOFFSETFROM:+0200
TZOFFSETTO:+0100
TZNAME:CET
DTSTART:20261025T010000
END:STANDARD
END:VTIMEZONE
BEGIN:VEVENT
DTSTART;TZID=Europe/Paris:20250607T090000
DTEND;TZID=Europe/Paris:20250608T190000
DTSTAMP:20260420T005656
CREATED:20250602T100748Z
LAST-MODIFIED:20250602T100748Z
UID:10000883-1749286800-1749409200@ccpc51.fr
SUMMARY:Rendez-vous aux Jardins : Parc du château de Dormans
DESCRIPTION:Venez découvrir ou redécouvrir le parc du château de Dormans qui s’étend sur 25 hectares\, les 7 et 8 juin 2025\, à l’occasion du week-end des Rendez-vous aux Jardins.\n\nCe parc\, sillonné d’allées et de ruisseaux\, d’arbres majestueux\, est un véritable écrin de verdure\, où la beauté de la nature rencontre l’histoire et le patrimoine.\n\nVenez découvrir tous ses secrets avec le jardinier du site\, passionné\, qui vous guidera à travers les allées\, vous dévoilant ainsi anecdotes et conseils pour une expérience enrichissante.\n\nLaissez-vous porter par les chants des oiseaux\, le parfum des fleurs et contempler la richesse de plantes et espèces végétales multiples pour une mémorable expérience sensorielle.\n\nVisite commentée le samedi sur réservation auprès du jardinier\, Fabrice Rime.\n\nLe parc est en accès libre toute l’année gratuitement.\n\n\n\nPour + d’informations : 03 26 53 35 86
URL:https://ccpc51.fr/evenement/rendez-vous-aux-jardins-parc-du-chateau-de-dormans/
LOCATION:Parc du Château de Dormans\, Avenue des Victoires\, DORMANS
CATEGORIES:Évènement pour enfants,Nature et détente,Portes ouvertes
ATTACH;FMTTYPE=image/jpeg:https://ccpc51.fr/wp-content/uploads/2025/06/le-parc-du-chateau-de-dormans.jpg
END:VEVENT
BEGIN:VEVENT
DTSTART;TZID=Europe/Paris:20250629T100000
DTEND;TZID=Europe/Paris:20250629T180000
DTSTAMP:20260420T005656
CREATED:20250319T145925Z
LAST-MODIFIED:20250319T145925Z
UID:10000786-1751191200-1751220000@ccpc51.fr
SUMMARY:En Rou(t)e Libre
DESCRIPTION:Rejoignez-nous le dimanche 29 juin 2025 pour une journée « En Rou(t)e Libre » ! \nVenez découvrir les magnifiques paysages champenois du Parc naturel régional de la Montagne de Reims et de la Vallée de la Marne\, à travers deux parcours : une boucle loisirs de de 16 km* et une boucle famille de 9 km\, sur route fermée accessible aux vélos\, rollers\, trottinettes (non électriques)\, à la marche\, à la course à pied. \nEt profitez des nombreux évènements qui ponctueront le parcours ! \n* Cœur-de-la-Vallée (commune nouvelle regroupant Binson et Orquigny\, Reuil\, Villers-sous-Châtillon)\, Châtillon-sur-Marne et sa splendide statue du pape Urbain II\, ainsi que Tincourt\, hameau de Venteuil.
URL:https://ccpc51.fr/evenement/en-route-libre/
LOCATION:Coeur de la Vallée\, 51700\, France
CATEGORIES:Évènement pour enfants,Nature et découverte,Randonnée
ATTACH;FMTTYPE=image/jpeg:https://ccpc51.fr/wp-content/uploads/2025/03/erl-2025-affiche-a4-recad-4.jpg
ORGANIZER;CN="Parc Naturel R%C3%A9gional de la Montagne de Reims":MAILTO:contact@parc-montagnedereims.fr
END:VEVENT
END:VCALENDAR