BEGIN:VCALENDAR
VERSION:2.0
PRODID:-//Communauté de Communes des Paysages de la Champagne - ECPv6.15.17//NONSGML v1.0//EN
CALSCALE:GREGORIAN
METHOD:PUBLISH
X-WR-CALNAME:Communauté de Communes des Paysages de la Champagne
X-ORIGINAL-URL:https://ccpc51.fr
X-WR-CALDESC:Évènements pour Communauté de Communes des Paysages de la Champagne
REFRESH-INTERVAL;VALUE=DURATION:PT1H
X-Robots-Tag:noindex
X-PUBLISHED-TTL:PT1H
BEGIN:VTIMEZONE
TZID:Europe/Paris
BEGIN:DAYLIGHT
TZOFFSETFROM:+0100
TZOFFSETTO:+0200
TZNAME:CEST
DTSTART:20240331T010000
END:DAYLIGHT
BEGIN:STANDARD
TZOFFSETFROM:+0200
TZOFFSETTO:+0100
TZNAME:CET
DTSTART:20241027T010000
END:STANDARD
BEGIN:DAYLIGHT
TZOFFSETFROM:+0100
TZOFFSETTO:+0200
TZNAME:CEST
DTSTART:20250330T010000
END:DAYLIGHT
BEGIN:STANDARD
TZOFFSETFROM:+0200
TZOFFSETTO:+0100
TZNAME:CET
DTSTART:20251026T010000
END:STANDARD
BEGIN:DAYLIGHT
TZOFFSETFROM:+0100
TZOFFSETTO:+0200
TZNAME:CEST
DTSTART:20260329T010000
END:DAYLIGHT
BEGIN:STANDARD
TZOFFSETFROM:+0200
TZOFFSETTO:+0100
TZNAME:CET
DTSTART:20261025T010000
END:STANDARD
END:VTIMEZONE
BEGIN:VEVENT
DTSTART;VALUE=DATE:20250714
DTEND;VALUE=DATE:20250715
DTSTAMP:20260419T225938
CREATED:20250709T143308Z
LAST-MODIFIED:20250709T143308Z
UID:10001288-1752451200-1752537599@ccpc51.fr
SUMMARY:Fête du 14 Juillet à Troissy
DESCRIPTION:La commune de Troissy vous invite à venir prendre part aux festivités de la fête nationale\, le lundi 14 juillet 2025. \nAvec au programme :\n– Jeux\, structures gonflables\, lâcher de ballons\n– animation avec « Aurélie »\n– casse-croute républicain\n– soirée animée par le groupe « All Guilty »\n– retraite aux flambeaux animée par la Fanfare de Magenta\n– 23h00: Feu d’artifice tiré des Fortes-Terres
URL:https://ccpc51.fr/evenement/fete-du-14-juillet-a-troissy/
LOCATION:Centre du village – TROISSY\, 51700
CATEGORIES:Bal,Commémoration,Évènement pour enfants,Jeux-concours / cartes / loto
ATTACH;FMTTYPE=image/jpeg:https://ccpc51.fr/wp-content/uploads/2025/07/fete-nationale-librededroits.jpg
END:VEVENT
END:VCALENDAR