BEGIN:VCALENDAR
VERSION:2.0
PRODID:-//Communauté de Communes des Paysages de la Champagne - ECPv6.15.17//NONSGML v1.0//EN
CALSCALE:GREGORIAN
METHOD:PUBLISH
X-ORIGINAL-URL:https://ccpc51.fr
X-WR-CALDESC:Évènements pour Communauté de Communes des Paysages de la Champagne
REFRESH-INTERVAL;VALUE=DURATION:PT1H
X-Robots-Tag:noindex
X-PUBLISHED-TTL:PT1H
BEGIN:VTIMEZONE
TZID:Europe/Paris
BEGIN:DAYLIGHT
TZOFFSETFROM:+0100
TZOFFSETTO:+0200
TZNAME:CEST
DTSTART:20240331T010000
END:DAYLIGHT
BEGIN:STANDARD
TZOFFSETFROM:+0200
TZOFFSETTO:+0100
TZNAME:CET
DTSTART:20241027T010000
END:STANDARD
BEGIN:DAYLIGHT
TZOFFSETFROM:+0100
TZOFFSETTO:+0200
TZNAME:CEST
DTSTART:20250330T010000
END:DAYLIGHT
BEGIN:STANDARD
TZOFFSETFROM:+0200
TZOFFSETTO:+0100
TZNAME:CET
DTSTART:20251026T010000
END:STANDARD
BEGIN:DAYLIGHT
TZOFFSETFROM:+0100
TZOFFSETTO:+0200
TZNAME:CEST
DTSTART:20260329T010000
END:DAYLIGHT
BEGIN:STANDARD
TZOFFSETFROM:+0200
TZOFFSETTO:+0100
TZNAME:CET
DTSTART:20261025T010000
END:STANDARD
END:VTIMEZONE
BEGIN:VEVENT
DTSTART;VALUE=DATE:20251031
DTEND;VALUE=DATE:20251101
DTSTAMP:20260419T173345
CREATED:20250416T153345Z
LAST-MODIFIED:20250416T153345Z
UID:10000818-1761868800-1761955199@ccpc51.fr
SUMMARY:Halloween à Le Baizil
DESCRIPTION:Vampires\, zombies\, squelettes\, fantômes\, sorcières et monstres en tout genre… vous donnent rendez-vous le vendredi 31 octobre 2025 à la salle des fêtes de Le Baizil. Alors préparez votre déguisement et rejoignez-les ! \nLe Comité des fêtes – Le Baizil invite Petits & Grands à venir fêter dignement Halloween !
URL:https://ccpc51.fr/evenement/halloween-a-le-baizil/
LOCATION:Salle des fêtes à LE BAIZIL
CATEGORIES:Évènement pour enfants,Soirée à thème
ATTACH;FMTTYPE=image/jpeg:https://ccpc51.fr/wp-content/uploads/2025/04/halloween-1-3.jpg
ORGANIZER;CN="Comit%C3%A9 des f%C3%AAtes de Le Baizil":MAILTO:comitelebaizil@gmail.com
END:VEVENT
END:VCALENDAR