BEGIN:VCALENDAR
VERSION:2.0
PRODID:-//Communauté de Communes des Paysages de la Champagne - ECPv6.15.17//NONSGML v1.0//EN
CALSCALE:GREGORIAN
METHOD:PUBLISH
X-ORIGINAL-URL:https://ccpc51.fr
X-WR-CALDESC:Évènements pour Communauté de Communes des Paysages de la Champagne
REFRESH-INTERVAL;VALUE=DURATION:PT1H
X-Robots-Tag:noindex
X-PUBLISHED-TTL:PT1H
BEGIN:VTIMEZONE
TZID:Europe/Paris
BEGIN:DAYLIGHT
TZOFFSETFROM:+0100
TZOFFSETTO:+0200
TZNAME:CEST
DTSTART:20240331T010000
END:DAYLIGHT
BEGIN:STANDARD
TZOFFSETFROM:+0200
TZOFFSETTO:+0100
TZNAME:CET
DTSTART:20241027T010000
END:STANDARD
BEGIN:DAYLIGHT
TZOFFSETFROM:+0100
TZOFFSETTO:+0200
TZNAME:CEST
DTSTART:20250330T010000
END:DAYLIGHT
BEGIN:STANDARD
TZOFFSETFROM:+0200
TZOFFSETTO:+0100
TZNAME:CET
DTSTART:20251026T010000
END:STANDARD
BEGIN:DAYLIGHT
TZOFFSETFROM:+0100
TZOFFSETTO:+0200
TZNAME:CEST
DTSTART:20260329T010000
END:DAYLIGHT
BEGIN:STANDARD
TZOFFSETFROM:+0200
TZOFFSETTO:+0100
TZNAME:CET
DTSTART:20261025T010000
END:STANDARD
END:VTIMEZONE
BEGIN:VEVENT
DTSTART;TZID=Europe/Paris:20250816T100000
DTEND;TZID=Europe/Paris:20250816T170000
DTSTAMP:20260426T042329
CREATED:20250805T125935Z
LAST-MODIFIED:20250805T125935Z
UID:10001438-1755338400-1755363600@ccpc51.fr
SUMMARY:Urbain II Bulles
DESCRIPTION:L’été prend de la hauteur à Châtillon-sur-Marne \, le samedi 16 août 2025 ! \nÀ l’occasion d’une journée festive au pied de la statue d’Urbain II\, faisons pétiller l’été autour de l’artisanat\, des produits du terroir\, d’animations pour petits et grands\, de bulles de champagne\, de bulles géantes et de moments conviviaux à partager. \nAu programme : Artisanat local & produits du terroir\, Visites et montées dans la statue\, Jeux en bois\, Restauration gourmande & Bar à champagne\n… Et d’autres surprises !
URL:https://ccpc51.fr/evenement/urbain-ii-bulles-2/
LOCATION:Site de la Statue du Pape Urbain II\, 4 Place Urbain II\, CHÂTILLON-SUR-MARNE\, 51700
CATEGORIES:Animation viti-vinicole / Portes ouvertes,Marché,Visite commentée
ATTACH;FMTTYPE=image/png:https://ccpc51.fr/wp-content/uploads/2025/08/affiche-urbainiibulles-ete-21-07-2025.png
ORGANIZER;CN="Office de tourisme des Paysages de la Champagne":MAILTO:contact@tourisme-paysages-champagne.com
END:VEVENT
END:VCALENDAR