BEGIN:VCALENDAR
VERSION:2.0
PRODID:-//Communauté de Communes des Paysages de la Champagne - ECPv6.15.17//NONSGML v1.0//EN
CALSCALE:GREGORIAN
METHOD:PUBLISH
X-WR-CALNAME:Communauté de Communes des Paysages de la Champagne
X-ORIGINAL-URL:https://ccpc51.fr
X-WR-CALDESC:Évènements pour Communauté de Communes des Paysages de la Champagne
REFRESH-INTERVAL;VALUE=DURATION:PT1H
X-Robots-Tag:noindex
X-PUBLISHED-TTL:PT1H
BEGIN:VTIMEZONE
TZID:Europe/Paris
BEGIN:DAYLIGHT
TZOFFSETFROM:+0100
TZOFFSETTO:+0200
TZNAME:CEST
DTSTART:20240331T010000
END:DAYLIGHT
BEGIN:STANDARD
TZOFFSETFROM:+0200
TZOFFSETTO:+0100
TZNAME:CET
DTSTART:20241027T010000
END:STANDARD
BEGIN:DAYLIGHT
TZOFFSETFROM:+0100
TZOFFSETTO:+0200
TZNAME:CEST
DTSTART:20250330T010000
END:DAYLIGHT
BEGIN:STANDARD
TZOFFSETFROM:+0200
TZOFFSETTO:+0100
TZNAME:CET
DTSTART:20251026T010000
END:STANDARD
BEGIN:DAYLIGHT
TZOFFSETFROM:+0100
TZOFFSETTO:+0200
TZNAME:CEST
DTSTART:20260329T010000
END:DAYLIGHT
BEGIN:STANDARD
TZOFFSETFROM:+0200
TZOFFSETTO:+0100
TZNAME:CET
DTSTART:20261025T010000
END:STANDARD
END:VTIMEZONE
BEGIN:VEVENT
DTSTART;VALUE=DATE:20250913
DTEND;VALUE=DATE:20250915
DTSTAMP:20260426T023404
CREATED:20250522T084942Z
LAST-MODIFIED:20250819T152418Z
UID:10000868-1757721600-1757894399@ccpc51.fr
SUMMARY:DORMANIA - Marché Médiéval et Artisanal
DESCRIPTION:Venez découvrir la 4ème édition du Marché Médiéval et Artisanal de Dormans organisé par l’association Les Potes aux Feux\, les samedi 13 et dimanche 14 septembre 2025 dans le parc du Château de Dormans.\n\nAu programme: marchands\, danse\, forge & combats mais aussi campement médiéval\, artisanat\, animations et spectacle de feu…\n\nBuvette & Restauration sur place.
URL:https://ccpc51.fr/evenement/dormania-marche-medieval-et-artisanal-3/
LOCATION:Parc du Château\, Dormans\, Parc du Château\, DORMANS\, 51700\, France
CATEGORIES:Marché
ATTACH;FMTTYPE=image/jpeg:https://ccpc51.fr/wp-content/uploads/2025/05/capture-d-ecran-2022-08-18-105934-2.jpg
ORGANIZER;CN="Association Les Potes aux Feux":MAILTO:les.potes.aux.feux1@gmail.com
END:VEVENT
END:VCALENDAR