BEGIN:VCALENDAR
VERSION:2.0
PRODID:-//Communauté de Communes des Paysages de la Champagne - ECPv6.15.17//NONSGML v1.0//EN
CALSCALE:GREGORIAN
METHOD:PUBLISH
X-WR-CALNAME:Communauté de Communes des Paysages de la Champagne
X-ORIGINAL-URL:https://ccpc51.fr
X-WR-CALDESC:Évènements pour Communauté de Communes des Paysages de la Champagne
REFRESH-INTERVAL;VALUE=DURATION:PT1H
X-Robots-Tag:noindex
X-PUBLISHED-TTL:PT1H
BEGIN:VTIMEZONE
TZID:Europe/Paris
BEGIN:DAYLIGHT
TZOFFSETFROM:+0100
TZOFFSETTO:+0200
TZNAME:CEST
DTSTART:20260329T010000
END:DAYLIGHT
BEGIN:STANDARD
TZOFFSETFROM:+0200
TZOFFSETTO:+0100
TZNAME:CET
DTSTART:20261025T010000
END:STANDARD
BEGIN:DAYLIGHT
TZOFFSETFROM:+0100
TZOFFSETTO:+0200
TZNAME:CEST
DTSTART:20270328T010000
END:DAYLIGHT
BEGIN:STANDARD
TZOFFSETFROM:+0200
TZOFFSETTO:+0100
TZNAME:CET
DTSTART:20271031T010000
END:STANDARD
BEGIN:DAYLIGHT
TZOFFSETFROM:+0100
TZOFFSETTO:+0200
TZNAME:CEST
DTSTART:20280326T010000
END:DAYLIGHT
BEGIN:STANDARD
TZOFFSETFROM:+0200
TZOFFSETTO:+0100
TZNAME:CET
DTSTART:20281029T010000
END:STANDARD
END:VTIMEZONE
BEGIN:VEVENT
DTSTART;TZID=Europe/Paris:20270101T080000
DTEND;TZID=Europe/Paris:20270101T123000
DTSTAMP:20260426T051559
CREATED:20210628T133117Z
LAST-MODIFIED:20230627T085524Z
UID:10000117-1798790400-1798806600@ccpc51.fr
SUMMARY:Marché Hebdomadaire de Montmort-Lucy
DESCRIPTION:Tous les vendredis matin\, le marché de Montmort-Lucy se tient Place du 14 Juillet\, derrière la Mairie. \nL’occasion de faire le plein de produits frais : maraîcher\, charcutier\, fromager … \n  \nINFO : LE 09 JUILLET 2021\, LE PETIT TRUCK EN PLUS S’INSTALLE AU MARCHÉ DE MONTMORT-LUCY
URL:https://ccpc51.fr/evenement/marche-hebdomadaire-de-montmort-lucy-2023-06-30/2027-01-01/
LOCATION:Place du village à Montmort-Lucy\, Place du Général de Gaulle\, MONTMORT-LUCY\, 51270\, France
CATEGORIES:Marché
ATTACH;FMTTYPE=image/jpeg:https://ccpc51.fr/wp-content/uploads/2021/06/marche-1-2Montmort-Lucy.jpg
ORGANIZER;CN="Office de tourisme des Paysages de la Champagne":MAILTO:contact@tourisme-paysages-champagne.com
END:VEVENT
BEGIN:VEVENT
DTSTART;TZID=Europe/Paris:20270108T080000
DTEND;TZID=Europe/Paris:20270108T123000
DTSTAMP:20260426T051559
CREATED:20210628T133117Z
LAST-MODIFIED:20230627T085524Z
UID:10000118-1799395200-1799411400@ccpc51.fr
SUMMARY:Marché Hebdomadaire de Montmort-Lucy
DESCRIPTION:Tous les vendredis matin\, le marché de Montmort-Lucy se tient Place du 14 Juillet\, derrière la Mairie. \nL’occasion de faire le plein de produits frais : maraîcher\, charcutier\, fromager … \n  \nINFO : LE 09 JUILLET 2021\, LE PETIT TRUCK EN PLUS S’INSTALLE AU MARCHÉ DE MONTMORT-LUCY
URL:https://ccpc51.fr/evenement/marche-hebdomadaire-de-montmort-lucy-2023-06-30/2027-01-08/
LOCATION:Place du village à Montmort-Lucy\, Place du Général de Gaulle\, MONTMORT-LUCY\, 51270\, France
CATEGORIES:Marché
ATTACH;FMTTYPE=image/jpeg:https://ccpc51.fr/wp-content/uploads/2021/06/marche-1-2Montmort-Lucy.jpg
ORGANIZER;CN="Office de tourisme des Paysages de la Champagne":MAILTO:contact@tourisme-paysages-champagne.com
END:VEVENT
BEGIN:VEVENT
DTSTART;TZID=Europe/Paris:20270115T080000
DTEND;TZID=Europe/Paris:20270115T123000
DTSTAMP:20260426T051559
CREATED:20210628T133117Z
LAST-MODIFIED:20230627T085524Z
UID:10000119-1800000000-1800016200@ccpc51.fr
SUMMARY:Marché Hebdomadaire de Montmort-Lucy
DESCRIPTION:Tous les vendredis matin\, le marché de Montmort-Lucy se tient Place du 14 Juillet\, derrière la Mairie. \nL’occasion de faire le plein de produits frais : maraîcher\, charcutier\, fromager … \n  \nINFO : LE 09 JUILLET 2021\, LE PETIT TRUCK EN PLUS S’INSTALLE AU MARCHÉ DE MONTMORT-LUCY
URL:https://ccpc51.fr/evenement/marche-hebdomadaire-de-montmort-lucy-2023-06-30/2027-01-15/
LOCATION:Place du village à Montmort-Lucy\, Place du Général de Gaulle\, MONTMORT-LUCY\, 51270\, France
CATEGORIES:Marché
ATTACH;FMTTYPE=image/jpeg:https://ccpc51.fr/wp-content/uploads/2021/06/marche-1-2Montmort-Lucy.jpg
ORGANIZER;CN="Office de tourisme des Paysages de la Champagne":MAILTO:contact@tourisme-paysages-champagne.com
END:VEVENT
BEGIN:VEVENT
DTSTART;TZID=Europe/Paris:20270122T080000
DTEND;TZID=Europe/Paris:20270122T123000
DTSTAMP:20260426T051559
CREATED:20210628T133117Z
LAST-MODIFIED:20230627T085524Z
UID:10000120-1800604800-1800621000@ccpc51.fr
SUMMARY:Marché Hebdomadaire de Montmort-Lucy
DESCRIPTION:Tous les vendredis matin\, le marché de Montmort-Lucy se tient Place du 14 Juillet\, derrière la Mairie. \nL’occasion de faire le plein de produits frais : maraîcher\, charcutier\, fromager … \n  \nINFO : LE 09 JUILLET 2021\, LE PETIT TRUCK EN PLUS S’INSTALLE AU MARCHÉ DE MONTMORT-LUCY
URL:https://ccpc51.fr/evenement/marche-hebdomadaire-de-montmort-lucy-2023-06-30/2027-01-22/
LOCATION:Place du village à Montmort-Lucy\, Place du Général de Gaulle\, MONTMORT-LUCY\, 51270\, France
CATEGORIES:Marché
ATTACH;FMTTYPE=image/jpeg:https://ccpc51.fr/wp-content/uploads/2021/06/marche-1-2Montmort-Lucy.jpg
ORGANIZER;CN="Office de tourisme des Paysages de la Champagne":MAILTO:contact@tourisme-paysages-champagne.com
END:VEVENT
BEGIN:VEVENT
DTSTART;TZID=Europe/Paris:20270129T080000
DTEND;TZID=Europe/Paris:20270129T123000
DTSTAMP:20260426T051559
CREATED:20210628T133117Z
LAST-MODIFIED:20230627T085524Z
UID:10001931-1801209600-1801225800@ccpc51.fr
SUMMARY:Marché Hebdomadaire de Montmort-Lucy
DESCRIPTION:Tous les vendredis matin\, le marché de Montmort-Lucy se tient Place du 14 Juillet\, derrière la Mairie. \nL’occasion de faire le plein de produits frais : maraîcher\, charcutier\, fromager … \n  \nINFO : LE 09 JUILLET 2021\, LE PETIT TRUCK EN PLUS S’INSTALLE AU MARCHÉ DE MONTMORT-LUCY
URL:https://ccpc51.fr/evenement/marche-hebdomadaire-de-montmort-lucy-2023-06-30/2027-01-29/
LOCATION:Place du village à Montmort-Lucy\, Place du Général de Gaulle\, MONTMORT-LUCY\, 51270\, France
CATEGORIES:Marché
ATTACH;FMTTYPE=image/jpeg:https://ccpc51.fr/wp-content/uploads/2021/06/marche-1-2Montmort-Lucy.jpg
ORGANIZER;CN="Office de tourisme des Paysages de la Champagne":MAILTO:contact@tourisme-paysages-champagne.com
END:VEVENT
END:VCALENDAR