BEGIN:VCALENDAR
VERSION:2.0
PRODID:-//Communauté de Communes des Paysages de la Champagne - ECPv6.15.17//NONSGML v1.0//EN
CALSCALE:GREGORIAN
METHOD:PUBLISH
X-ORIGINAL-URL:https://ccpc51.fr
X-WR-CALDESC:Évènements pour Communauté de Communes des Paysages de la Champagne
REFRESH-INTERVAL;VALUE=DURATION:PT1H
X-Robots-Tag:noindex
X-PUBLISHED-TTL:PT1H
BEGIN:VTIMEZONE
TZID:Europe/Paris
BEGIN:DAYLIGHT
TZOFFSETFROM:+0100
TZOFFSETTO:+0200
TZNAME:CEST
DTSTART:20250330T010000
END:DAYLIGHT
BEGIN:STANDARD
TZOFFSETFROM:+0200
TZOFFSETTO:+0100
TZNAME:CET
DTSTART:20251026T010000
END:STANDARD
BEGIN:DAYLIGHT
TZOFFSETFROM:+0100
TZOFFSETTO:+0200
TZNAME:CEST
DTSTART:20260329T010000
END:DAYLIGHT
BEGIN:STANDARD
TZOFFSETFROM:+0200
TZOFFSETTO:+0100
TZNAME:CET
DTSTART:20261025T010000
END:STANDARD
BEGIN:DAYLIGHT
TZOFFSETFROM:+0100
TZOFFSETTO:+0200
TZNAME:CEST
DTSTART:20270328T010000
END:DAYLIGHT
BEGIN:STANDARD
TZOFFSETFROM:+0200
TZOFFSETTO:+0100
TZNAME:CET
DTSTART:20271031T010000
END:STANDARD
END:VTIMEZONE
BEGIN:VEVENT
DTSTART;TZID=Europe/Paris:20260425T090000
DTEND;TZID=Europe/Paris:20260426T183000
DTSTAMP:20260425T162528
CREATED:20251216T132339Z
LAST-MODIFIED:20251216T132359Z
UID:10001573-1777107600-1777228200@ccpc51.fr
SUMMARY:Marché aux fleurs de Dormans
DESCRIPTION:L’Association pour le Fleurissement de Dormans et ses Hameaux organise son traditionnel marché aux fleurs les samedi 25 et dimanche 26 avril 2026 dans le Parc du Château. \nDe nombreux exposants seront présents. \nEntrée libre /Restauration sur place. \nPlus d’infos au 03 26 59 20 47 ou au 06 27 49 70 18
URL:https://ccpc51.fr/evenement/marche-aux-fleurs-de-dormans/
LOCATION:Parc du Château\, Dormans\, Parc du Château\, DORMANS\, 51700\, France
CATEGORIES:Marché
ATTACH;FMTTYPE=image/jpeg:https://ccpc51.fr/wp-content/uploads/2025/12/marche-aux-fleurs-4.jpg
END:VEVENT
BEGIN:VEVENT
DTSTART;TZID=Europe/Paris:20260426T100000
DTEND;TZID=Europe/Paris:20260426T180000
DTSTAMP:20260425T162528
CREATED:20260407T151326Z
LAST-MODIFIED:20260407T151326Z
UID:10002225-1777197600-1777226400@ccpc51.fr
SUMMARY:Marché du Printemps
DESCRIPTION:Les beaux-jours sont de retour ! Rendez-vous le dimanche 26 avril 2026 à la Salle des Fêtes de Saint-Martin-d’Ablois pour le Marché du Printemps. \nAu programme : producteurs et artisans locaux à découvrir\, ainsi qu’un espace mercerie pour les amateurs de couture et de création. Une belle occasion de soutenir les acteurs locaux tout en faisant de belles trouvailles !
URL:https://ccpc51.fr/evenement/marche-du-printemps/
LOCATION:Salle des fêtes à SAINT MARTIN D’ABLOIS\, 55 rue Julien Ducos
CATEGORIES:Artisanat,Marché
ATTACH;FMTTYPE=image/jpeg:https://ccpc51.fr/wp-content/uploads/2026/04/marche-de-printemps-st-martin-d-ablois.jpg
ORGANIZER;CN="Association ABCD de Saint-Martin d'Ablois":MAILTO:abcdsma@yahoo.com
END:VEVENT
END:VCALENDAR