BEGIN:VCALENDAR
VERSION:2.0
PRODID:-//Communauté de Communes des Paysages de la Champagne - ECPv6.15.17//NONSGML v1.0//EN
CALSCALE:GREGORIAN
METHOD:PUBLISH
X-ORIGINAL-URL:https://ccpc51.fr
X-WR-CALDESC:Évènements pour Communauté de Communes des Paysages de la Champagne
REFRESH-INTERVAL;VALUE=DURATION:PT1H
X-Robots-Tag:noindex
X-PUBLISHED-TTL:PT1H
BEGIN:VTIMEZONE
TZID:Europe/Paris
BEGIN:DAYLIGHT
TZOFFSETFROM:+0100
TZOFFSETTO:+0200
TZNAME:CEST
DTSTART:20230326T010000
END:DAYLIGHT
BEGIN:STANDARD
TZOFFSETFROM:+0200
TZOFFSETTO:+0100
TZNAME:CET
DTSTART:20231029T010000
END:STANDARD
BEGIN:DAYLIGHT
TZOFFSETFROM:+0100
TZOFFSETTO:+0200
TZNAME:CEST
DTSTART:20240331T010000
END:DAYLIGHT
BEGIN:STANDARD
TZOFFSETFROM:+0200
TZOFFSETTO:+0100
TZNAME:CET
DTSTART:20241027T010000
END:STANDARD
BEGIN:DAYLIGHT
TZOFFSETFROM:+0100
TZOFFSETTO:+0200
TZNAME:CEST
DTSTART:20250330T010000
END:DAYLIGHT
BEGIN:STANDARD
TZOFFSETFROM:+0200
TZOFFSETTO:+0100
TZNAME:CET
DTSTART:20251026T010000
END:STANDARD
END:VTIMEZONE
BEGIN:VEVENT
DTSTART;TZID=Europe/Paris:20241103T140000
DTEND;TZID=Europe/Paris:20241103T180000
DTSTAMP:20260420T045440
CREATED:20240229T145348Z
LAST-MODIFIED:20240305T141000Z
UID:10000451-1730642400-1730656800@ccpc51.fr
SUMMARY:Portes ouvertes dans les Jardins : Jardin de L'Eau Vive
DESCRIPTION:Promenade découverte dans un parc de 2 hectares traversé de plusieurs ruisseaux pour les amateurs d’arbres et plantes rares.\nNombreuses collections : aubépines\, chênes\, érables\, conifères\, fruitiers.\nPotager fleuri\, jardin humide\, verger\, sous-bois…\nFermé du 15 juillet au 14 août et le 29 septembre 2024\nSur rendez-vous en dehors de ces dates.\nTarif adulte : 5 euros – Gratuit pour les moins de 18 ans
URL:https://ccpc51.fr/evenement/portes-ouvertes-dans-les-jardins-jardin-de-leau-vive/2024-11-03/
LOCATION:Jardin de l’Eau Vive\, LA VILLE SOUS ORBAIS\, 51270
CATEGORIES:Nature et découverte,Portes ouvertes,Visite commentée
ATTACH;FMTTYPE=image/jpeg:https://ccpc51.fr/wp-content/uploads/2024/02/11111.jpg
ORGANIZER;CN="Jardin de L'Eau Vive":MAILTO:michele-gilles@wanadoo.fr
END:VEVENT
BEGIN:VEVENT
DTSTART;TZID=Europe/Paris:20241123T140000
DTEND;TZID=Europe/Paris:20241123T170000
DTSTAMP:20260420T045440
CREATED:20241121T151032Z
LAST-MODIFIED:20241121T151032Z
UID:10000651-1732370400-1732381200@ccpc51.fr
SUMMARY:Préservons les mares des pâtis de Damery !
DESCRIPTION:Aidez-nous à préserver les mares des pâtis de Damery. Coupe\, debroussaillage\, bonne humeur et convivialité seront de la partie. Rejoignez-nous ! \n*** Réservation obligatoire : https://bit.ly/4fnd24O *** \nPrévoir bottes\, vêtements adaptés à la météo\, gants et gourde.
URL:https://ccpc51.fr/evenement/preservons-les-mares-des-patis-de-damery-2/
LOCATION:DAMERY
CATEGORIES:Nature et découverte
ATTACH;FMTTYPE=image/jpeg:https://ccpc51.fr/wp-content/uploads/2024/11/preservation-des-patis-de-damery.jpg
END:VEVENT
END:VCALENDAR