BEGIN:VCALENDAR
VERSION:2.0
PRODID:-//Communauté de Communes des Paysages de la Champagne - ECPv6.15.17//NONSGML v1.0//EN
CALSCALE:GREGORIAN
METHOD:PUBLISH
X-ORIGINAL-URL:https://ccpc51.fr
X-WR-CALDESC:Évènements pour Communauté de Communes des Paysages de la Champagne
REFRESH-INTERVAL;VALUE=DURATION:PT1H
X-Robots-Tag:noindex
X-PUBLISHED-TTL:PT1H
BEGIN:VTIMEZONE
TZID:Europe/Paris
BEGIN:DAYLIGHT
TZOFFSETFROM:+0100
TZOFFSETTO:+0200
TZNAME:CEST
DTSTART:20240331T010000
END:DAYLIGHT
BEGIN:STANDARD
TZOFFSETFROM:+0200
TZOFFSETTO:+0100
TZNAME:CET
DTSTART:20241027T010000
END:STANDARD
BEGIN:DAYLIGHT
TZOFFSETFROM:+0100
TZOFFSETTO:+0200
TZNAME:CEST
DTSTART:20250330T010000
END:DAYLIGHT
BEGIN:STANDARD
TZOFFSETFROM:+0200
TZOFFSETTO:+0100
TZNAME:CET
DTSTART:20251026T010000
END:STANDARD
BEGIN:DAYLIGHT
TZOFFSETFROM:+0100
TZOFFSETTO:+0200
TZNAME:CEST
DTSTART:20260329T010000
END:DAYLIGHT
BEGIN:STANDARD
TZOFFSETFROM:+0200
TZOFFSETTO:+0100
TZNAME:CET
DTSTART:20261025T010000
END:STANDARD
END:VTIMEZONE
BEGIN:VEVENT
DTSTART;VALUE=DATE:20250516
DTEND;VALUE=DATE:20250922
DTSTAMP:20260419T141246
CREATED:20250827T082641Z
LAST-MODIFIED:20250827T082641Z
UID:10001456-1747353600-1758499199@ccpc51.fr
SUMMARY:Vign'Art 2025 - Bouba
DESCRIPTION:Victime de son succès\, le Festival d’Art Contemporain et de Land Art en Champagne réitère l’expérience pour la 6ème année ! \nDécouvrez Bouba\, l’installation interactive de Gleb Dusavitskiy sur les hauteurs du village de Villevenard !\nBouba est bien plus qu’une sculpture : c’est un lieu de réconfort et d’élévation\, un espace magique et éthéré qui flotte entre ciel et terre. Conçue comme un sanctuaire intime\, l’installation invite les visiteurs à gravir une échelle pour entrer en son cœur\, où ils peuvent rêver\, méditer et se reconnecter à eux-mêmes.\nCréée par Gleb Dusavitskiy\, artiste engagé à diffuser joie et positivité\, Bouba transcende le temps et l’espace\, éveillant émerveillement et imagination. Véritable ode à la contemplation\, cette œuvre immersive rappelle la beauté des instants de calme et la puissance de l’interaction humaine. Une expérience unique propice à la réflexion et à l’élévation. \nPour cette 6ème édition\, 18 œuvres éphémères viennent embellir le territoire de la Champagne : Épernay\, Vertus\, Soulières\, Vert-Toulon\, Mancy\, Grauves\, Vinay\, Le Mesnil-sur-Oger\, Champillon\, Hautvillers\, Baye\, Villevenard\, Talus-Saint-Prix\, Mailly-Champagne\, Verzy et Ludes.
URL:https://ccpc51.fr/evenement/vignart-2025-bouba/
LOCATION:VILLEVENARD\, 51270\, France
CATEGORIES:Nature et découverte,Portes Ouvertes,Visite commentée
ATTACH;FMTTYPE=image/png:https://ccpc51.fr/wp-content/uploads/2025/08/vign-art-villevanard.png
END:VEVENT
BEGIN:VEVENT
DTSTART;VALUE=DATE:20250516
DTEND;VALUE=DATE:20250922
DTSTAMP:20260419T141246
CREATED:20250827T083652Z
LAST-MODIFIED:20250827T083652Z
UID:10001457-1747353600-1758499199@ccpc51.fr
SUMMARY:Vign'Art 2025 - Reflets de Tradition
DESCRIPTION:Victime de son succès\, le Festival d’Art Contemporain et de Land Art en Champagne réitère l’expérience pour la 6ème année ! \nDécouvrez Reflets de Tradition de Brigitte Danse au cœur du lavoir de Talus-Saint-Prix !\nAvec Reflets de Tradition\, Brigitte Danse sublime l’histoire de la Champagne en transformant des bouteilles de verre vert en une cascade suspendue. Ces fragments fondus et remodelés forment un rideau vibrant\, où la lumière joue avec les reflets et les transparences\, rappelant la pureté et la fluidité de l’eau.\nCette installation\, métaphore de la transformation et du recyclage\, dialogue avec le patrimoine local et les symboles des lavoirs. Brigitte Danse\, sculptrice internationale\, invite à contempler la beauté de la métamorphose et du passage du temps\, dans une œuvre où légèreté et poésie s’entrelacent. \nPour cette 6ème édition\, 18 œuvres éphémères viennent embellir le territoire de la Champagne : Épernay\, Vertus\, Soulières\, Vert-Toulon\, Mancy\, Grauves\, Vinay\, Le Mesnil-sur-Oger\, Champillon\, Hautvillers\, Baye\, Villevenard\, Talus-Saint-Prix\, Mailly-Champagne\, Verzy et Ludes.
URL:https://ccpc51.fr/evenement/vignart-2025-reflets-de-tradition/
LOCATION:Lavoir de TALUS-SAINT-PRIX
CATEGORIES:Nature et découverte,Portes Ouvertes,Visite commentée
ATTACH;FMTTYPE=image/png:https://ccpc51.fr/wp-content/uploads/2025/08/vign-art-talus.png
END:VEVENT
BEGIN:VEVENT
DTSTART;TZID=Europe/Paris:20250920T140000
DTEND;TZID=Europe/Paris:20250920T180000
DTSTAMP:20260419T141246
CREATED:20250804T151953Z
LAST-MODIFIED:20250916T142503Z
UID:10001433-1758376800-1758391200@ccpc51.fr
SUMMARY:Journées Européennes du Patrimoine - Visite de l'église Saint-Pierre Saint-Paul
DESCRIPTION:À l’occasion des Journées Européennes du Patrimoine\, les samedi 20 et dimanche 21 septembre 2025\, venez découvrir ou redécouvrir l’Église Saint-Pierre-Saint-Paul de Montmort-Lucy. \nClassée monument historique\, elle vous dévoilera toutes ses richesses\, notamment\, son « Caquetoire » ou narthex\, ses vitraux du XVIe remarquablement conservés malgré les 2 guerres mondiales\, sa chaire\, son Christ du XVIIe\, … \nDes feuillets et documents de visite seront mis à disposition des visiteurs. \nÀ découvrir également :\n– Exposition thématique « Hommage aux résistants de Montmort » : à travers des témoignages familiaux et récits poignants\, cette exposition inédite retrace le courage des femmes et des hommes de la région de Montmort. Leurs actions discrètes mais décisives durant la Seconde Guerre mondiale sont enfin mises en lumière\, entre mémoire vivante et reconnaissance collective. \n– Conférence sur les Résistants (tes) de Montmort et des environs\, le samedi de 17h00 à 18h00 : l’Association Patrimoine et Nature à Montmort-Lucy invite des familles d’anciens résistants à témoigner sur les actions et les risques vécus pendant la guerre\, lors d’une conférence accompagnée d’un diaporama. \n– Exposition d’artistes : venez admirer des peintures\, des sculptures\, des photos\, ou encore des vitraux et échanger avec les artistes et exposants présents sur les 2 jours. \n– Découverte de vitraux remarquables : découvrez les trésors de l’église Saint-Pierre-Saint-Paul et émerveillez-vous devant ses vitraux remarquables du XVIe siècle ! \n– Visite guidée de l’église\, le dimanche matin à 10h30 par un bénévole de l’Association Patrimoine et Nature à Montmort-Lucy. \n  \n** Pour + d’informations : 06 63 32 96 88 **
URL:https://ccpc51.fr/evenement/journees-europeennes-du-patrimoine-visite-de-leglise-saint-pierre-saint-paul-2/2025-09-20/
LOCATION:EGLISE SAINT PIERRE ET SAINT PAUL\, rue Saint-Pierre\, MONTMORT-LUCY\, 51270
CATEGORIES:Exposition,Portes Ouvertes,Visite commentée
ATTACH;FMTTYPE=image/jpeg:https://ccpc51.fr/wp-content/uploads/2025/08/eglise-montmort-lucy-jep-2023.jpg
END:VEVENT
BEGIN:VEVENT
DTSTART;TZID=Europe/Paris:20250920T143000
DTEND;TZID=Europe/Paris:20250920T183000
DTSTAMP:20260419T141246
CREATED:20250805T130634Z
LAST-MODIFIED:20250805T130944Z
UID:10001439-1758378600-1758393000@ccpc51.fr
SUMMARY:Journées Européennes du Patrimoine : Le Jardin de l'Eau Vive
DESCRIPTION:À l’occasion des journées européennes du patrimoine\, les samedi 20 et dimanche 21 septembre 2025\, découvrez un jardin regorgeant de variétés botaniques ! \nPromenez-vous parmi des variétés rares d’arbres et arbustes tels que Erethia Dicksonii\, cornus macrophylla\, gleditsia sinensis… Découvrez les premières couleurs d’automne et les floraisons de fin d’été. \nVisite commentée à 15h00 – Parking derrière l’église \n  \n\nTarif adulte : 5 euros – Gratuit pour les moins de 18 ans
URL:https://ccpc51.fr/evenement/journees-europeennes-du-patrimoine-le-jardin-de-leau-vive-2/2025-09-20/
LOCATION:JARDIN DE L’EAU VIVE à LA VILLE-SOUS-ORBAIS\, 7 Route du Breuil\, La Ville-sous-Orbais\, 51270
CATEGORIES:Portes Ouvertes,Visite commentée
ATTACH;FMTTYPE=image/jpeg:https://ccpc51.fr/wp-content/uploads/2025/08/jep-jardin-de-l-eau-vive.jpg
END:VEVENT
BEGIN:VEVENT
DTSTART;TZID=Europe/Paris:20250921T100000
DTEND;TZID=Europe/Paris:20250921T180000
DTSTAMP:20260419T141246
CREATED:20250804T151953Z
LAST-MODIFIED:20250916T142503Z
UID:10001469-1758448800-1758477600@ccpc51.fr
SUMMARY:Journées Européennes du Patrimoine - Visite de l'église Saint-Pierre Saint-Paul
DESCRIPTION:À l’occasion des Journées Européennes du Patrimoine\, les samedi 20 et dimanche 21 septembre 2025\, venez découvrir ou redécouvrir l’Église Saint-Pierre-Saint-Paul de Montmort-Lucy. \nClassée monument historique\, elle vous dévoilera toutes ses richesses\, notamment\, son « Caquetoire » ou narthex\, ses vitraux du XVIe remarquablement conservés malgré les 2 guerres mondiales\, sa chaire\, son Christ du XVIIe\, … \nDes feuillets et documents de visite seront mis à disposition des visiteurs. \nÀ découvrir également :\n– Exposition thématique « Hommage aux résistants de Montmort » : à travers des témoignages familiaux et récits poignants\, cette exposition inédite retrace le courage des femmes et des hommes de la région de Montmort. Leurs actions discrètes mais décisives durant la Seconde Guerre mondiale sont enfin mises en lumière\, entre mémoire vivante et reconnaissance collective. \n– Conférence sur les Résistants (tes) de Montmort et des environs\, le samedi de 17h00 à 18h00 : l’Association Patrimoine et Nature à Montmort-Lucy invite des familles d’anciens résistants à témoigner sur les actions et les risques vécus pendant la guerre\, lors d’une conférence accompagnée d’un diaporama. \n– Exposition d’artistes : venez admirer des peintures\, des sculptures\, des photos\, ou encore des vitraux et échanger avec les artistes et exposants présents sur les 2 jours. \n– Découverte de vitraux remarquables : découvrez les trésors de l’église Saint-Pierre-Saint-Paul et émerveillez-vous devant ses vitraux remarquables du XVIe siècle ! \n– Visite guidée de l’église\, le dimanche matin à 10h30 par un bénévole de l’Association Patrimoine et Nature à Montmort-Lucy. \n  \n** Pour + d’informations : 06 63 32 96 88 **
URL:https://ccpc51.fr/evenement/journees-europeennes-du-patrimoine-visite-de-leglise-saint-pierre-saint-paul-2/2025-09-21/
LOCATION:EGLISE SAINT PIERRE ET SAINT PAUL\, rue Saint-Pierre\, MONTMORT-LUCY\, 51270
CATEGORIES:Exposition,Portes Ouvertes,Visite commentée
ATTACH;FMTTYPE=image/jpeg:https://ccpc51.fr/wp-content/uploads/2025/08/eglise-montmort-lucy-jep-2023.jpg
END:VEVENT
BEGIN:VEVENT
DTSTART;TZID=Europe/Paris:20250921T140000
DTEND;TZID=Europe/Paris:20250921T183000
DTSTAMP:20260419T141246
CREATED:20250805T130634Z
LAST-MODIFIED:20250805T130944Z
UID:10001440-1758463200-1758479400@ccpc51.fr
SUMMARY:Journées Européennes du Patrimoine : Le Jardin de l'Eau Vive
DESCRIPTION:À l’occasion des journées européennes du patrimoine\, les samedi 20 et dimanche 21 septembre 2025\, découvrez un jardin regorgeant de variétés botaniques ! \nPromenez-vous parmi des variétés rares d’arbres et arbustes tels que Erethia Dicksonii\, cornus macrophylla\, gleditsia sinensis… Découvrez les premières couleurs d’automne et les floraisons de fin d’été. \nVisite commentée à 15h00 – Parking derrière l’église \n  \n\nTarif adulte : 5 euros – Gratuit pour les moins de 18 ans
URL:https://ccpc51.fr/evenement/journees-europeennes-du-patrimoine-le-jardin-de-leau-vive-2/2025-09-21/
LOCATION:JARDIN DE L’EAU VIVE à LA VILLE-SOUS-ORBAIS\, 7 Route du Breuil\, La Ville-sous-Orbais\, 51270
CATEGORIES:Portes Ouvertes,Visite commentée
ATTACH;FMTTYPE=image/jpeg:https://ccpc51.fr/wp-content/uploads/2025/08/jep-jardin-de-l-eau-vive.jpg
END:VEVENT
END:VCALENDAR