BEGIN:VCALENDAR
VERSION:2.0
PRODID:-//Communauté de Communes des Paysages de la Champagne - ECPv6.15.17//NONSGML v1.0//EN
CALSCALE:GREGORIAN
METHOD:PUBLISH
X-ORIGINAL-URL:https://ccpc51.fr
X-WR-CALDESC:Évènements pour Communauté de Communes des Paysages de la Champagne
REFRESH-INTERVAL;VALUE=DURATION:PT1H
X-Robots-Tag:noindex
X-PUBLISHED-TTL:PT1H
BEGIN:VTIMEZONE
TZID:Europe/Paris
BEGIN:DAYLIGHT
TZOFFSETFROM:+0100
TZOFFSETTO:+0200
TZNAME:CEST
DTSTART:20240331T010000
END:DAYLIGHT
BEGIN:STANDARD
TZOFFSETFROM:+0200
TZOFFSETTO:+0100
TZNAME:CET
DTSTART:20241027T010000
END:STANDARD
BEGIN:DAYLIGHT
TZOFFSETFROM:+0100
TZOFFSETTO:+0200
TZNAME:CEST
DTSTART:20250330T010000
END:DAYLIGHT
BEGIN:STANDARD
TZOFFSETFROM:+0200
TZOFFSETTO:+0100
TZNAME:CET
DTSTART:20251026T010000
END:STANDARD
BEGIN:DAYLIGHT
TZOFFSETFROM:+0100
TZOFFSETTO:+0200
TZNAME:CEST
DTSTART:20260329T010000
END:DAYLIGHT
BEGIN:STANDARD
TZOFFSETFROM:+0200
TZOFFSETTO:+0100
TZNAME:CET
DTSTART:20261025T010000
END:STANDARD
END:VTIMEZONE
BEGIN:VEVENT
DTSTART;TZID=Europe/Paris:20250406T150000
DTEND;TZID=Europe/Paris:20250406T190000
DTSTAMP:20260420T145112
CREATED:20250319T161816Z
LAST-MODIFIED:20250319T161816Z
UID:10000798-1743951600-1743966000@ccpc51.fr
SUMMARY:Spectacle "Le Secret de Kalayaan"
DESCRIPTION:L’Association Familles rurales propose un après-midi spectacle\, le dimanche 6 avril 2025 à la salle polyvalente de Le Breuil. \nAu programme : le spectacle « Le Secret de Kalayaan » de la compagnie « Cie les nés en l’air » pour les petits & grands\, suivi d’un goûter ! \nRéservation avant le dimanche 30 mars 2025
URL:https://ccpc51.fr/evenement/spectacle-le-secret-de-kalayaan/
LOCATION:Salle serge Coyard\, LE BREUIL\, 51700\, France
CATEGORIES:Spectacle
ATTACH;FMTTYPE=image/jpeg:https://ccpc51.fr/wp-content/uploads/2025/03/theatre-le-breuil.jpg
END:VEVENT
END:VCALENDAR