BEGIN:VCALENDAR
VERSION:2.0
PRODID:-//Communauté de Communes des Paysages de la Champagne - ECPv6.15.17//NONSGML v1.0//EN
CALSCALE:GREGORIAN
METHOD:PUBLISH
X-WR-CALNAME:Communauté de Communes des Paysages de la Champagne
X-ORIGINAL-URL:https://ccpc51.fr
X-WR-CALDESC:Évènements pour Communauté de Communes des Paysages de la Champagne
REFRESH-INTERVAL;VALUE=DURATION:PT1H
X-Robots-Tag:noindex
X-PUBLISHED-TTL:PT1H
BEGIN:VTIMEZONE
TZID:Europe/Paris
BEGIN:DAYLIGHT
TZOFFSETFROM:+0100
TZOFFSETTO:+0200
TZNAME:CEST
DTSTART:20240331T010000
END:DAYLIGHT
BEGIN:STANDARD
TZOFFSETFROM:+0200
TZOFFSETTO:+0100
TZNAME:CET
DTSTART:20241027T010000
END:STANDARD
BEGIN:DAYLIGHT
TZOFFSETFROM:+0100
TZOFFSETTO:+0200
TZNAME:CEST
DTSTART:20250330T010000
END:DAYLIGHT
BEGIN:STANDARD
TZOFFSETFROM:+0200
TZOFFSETTO:+0100
TZNAME:CET
DTSTART:20251026T010000
END:STANDARD
BEGIN:DAYLIGHT
TZOFFSETFROM:+0100
TZOFFSETTO:+0200
TZNAME:CEST
DTSTART:20260329T010000
END:DAYLIGHT
BEGIN:STANDARD
TZOFFSETFROM:+0200
TZOFFSETTO:+0100
TZNAME:CET
DTSTART:20261025T010000
END:STANDARD
END:VTIMEZONE
BEGIN:VEVENT
DTSTART;VALUE=DATE:20251223
DTEND;VALUE=DATE:20251224
DTSTAMP:20260420T003917
CREATED:20251216T112901Z
LAST-MODIFIED:20251216T112901Z
UID:10001562-1766448000-1766534399@ccpc51.fr
SUMMARY:Spectacle “Petits héros fermiers” à Dormans
DESCRIPTION:Le Centre Socio-Culturel Familles Rurales de Dormans vous invite à venir assister à un spectacle gratuit\, “Petits héros fermiers”\, pour toute la famille\, le mardi 23 décembre 2025 à partir de 15h. \n***Sur réservation / Goûter offert*** \nPlus d’infos au 03 26 58 80 37
URL:https://ccpc51.fr/evenement/spectacle-petits-heros-fermiers-a-dormans/
LOCATION:Centre Social de Familles Rurales de Dormans\, 3 Rue du Général Leclerc\, DORMANS\, 51700
CATEGORIES:Spectacle
ATTACH;FMTTYPE=image/jpeg:https://ccpc51.fr/wp-content/uploads/2025/12/spectacle-familles-rurales-dormans.jpg
ORGANIZER;CN="Association Familles Rurales de Dormans":MAILTO:accueil.cscfr@gmail.com
END:VEVENT
END:VCALENDAR