BEGIN:VCALENDAR
VERSION:2.0
PRODID:-//Communauté de Communes des Paysages de la Champagne - ECPv6.15.17//NONSGML v1.0//EN
CALSCALE:GREGORIAN
METHOD:PUBLISH
X-ORIGINAL-URL:https://ccpc51.fr
X-WR-CALDESC:Évènements pour Communauté de Communes des Paysages de la Champagne
REFRESH-INTERVAL;VALUE=DURATION:PT1H
X-Robots-Tag:noindex
X-PUBLISHED-TTL:PT1H
BEGIN:VTIMEZONE
TZID:Europe/Paris
BEGIN:DAYLIGHT
TZOFFSETFROM:+0100
TZOFFSETTO:+0200
TZNAME:CEST
DTSTART:20250330T010000
END:DAYLIGHT
BEGIN:STANDARD
TZOFFSETFROM:+0200
TZOFFSETTO:+0100
TZNAME:CET
DTSTART:20251026T010000
END:STANDARD
BEGIN:DAYLIGHT
TZOFFSETFROM:+0100
TZOFFSETTO:+0200
TZNAME:CEST
DTSTART:20260329T010000
END:DAYLIGHT
BEGIN:STANDARD
TZOFFSETFROM:+0200
TZOFFSETTO:+0100
TZNAME:CET
DTSTART:20261025T010000
END:STANDARD
BEGIN:DAYLIGHT
TZOFFSETFROM:+0100
TZOFFSETTO:+0200
TZNAME:CEST
DTSTART:20270328T010000
END:DAYLIGHT
BEGIN:STANDARD
TZOFFSETFROM:+0200
TZOFFSETTO:+0100
TZNAME:CET
DTSTART:20271031T010000
END:STANDARD
END:VTIMEZONE
BEGIN:VEVENT
DTSTART;VALUE=DATE:20260530
DTEND;VALUE=DATE:20260531
DTSTAMP:20260419T191715
CREATED:20260309T143606Z
LAST-MODIFIED:20260309T143606Z
UID:10001926-1780099200-1780185599@ccpc51.fr
SUMMARY:Les Folies Ardentes – Dormans
DESCRIPTION:Les Folies Ardentes font leur show ! Préparez-vous à vivre une soirée hors du temps avec « L’Éveil des Engrenages »\, un spectacle poétique et enflammé mêlant danse\, théâtre et jonglerie\, le samedi 30 mai 2026\, au Parc du Château de Dormans . \nDans un univers post-apocalyptique où machines et hommes semblent avoir perdu toute vitalité\, un groupe d’ouvriers tente de réveiller les anciens mécanismes pour raviver chaleur et vie. Mais tandis que le chaos s’installe\, comment parviendront-ils à rétablir l’harmonie ? \nUne ode à la renaissance à ne pas manquer\, portée par la compagnie Petit Circus.
URL:https://ccpc51.fr/evenement/les-folies-ardentes-dormans/
LOCATION:Parc du Château de Dormans\, Avenue des Victoires\, DORMANS
CATEGORIES:Spectacle
ATTACH;FMTTYPE=image/jpeg:https://ccpc51.fr/wp-content/uploads/2026/03/affiche-les-folies-ardentes-dormans.jpg
END:VEVENT
END:VCALENDAR