BEGIN:VCALENDAR
VERSION:2.0
PRODID:-//Communauté de Communes des Paysages de la Champagne - ECPv6.15.17//NONSGML v1.0//EN
CALSCALE:GREGORIAN
METHOD:PUBLISH
X-ORIGINAL-URL:https://ccpc51.fr
X-WR-CALDESC:Évènements pour Communauté de Communes des Paysages de la Champagne
REFRESH-INTERVAL;VALUE=DURATION:PT1H
X-Robots-Tag:noindex
X-PUBLISHED-TTL:PT1H
BEGIN:VTIMEZONE
TZID:Europe/Paris
BEGIN:DAYLIGHT
TZOFFSETFROM:+0100
TZOFFSETTO:+0200
TZNAME:CEST
DTSTART:20230326T010000
END:DAYLIGHT
BEGIN:STANDARD
TZOFFSETFROM:+0200
TZOFFSETTO:+0100
TZNAME:CET
DTSTART:20231029T010000
END:STANDARD
BEGIN:DAYLIGHT
TZOFFSETFROM:+0100
TZOFFSETTO:+0200
TZNAME:CEST
DTSTART:20240331T010000
END:DAYLIGHT
BEGIN:STANDARD
TZOFFSETFROM:+0200
TZOFFSETTO:+0100
TZNAME:CET
DTSTART:20241027T010000
END:STANDARD
BEGIN:DAYLIGHT
TZOFFSETFROM:+0100
TZOFFSETTO:+0200
TZNAME:CEST
DTSTART:20250330T010000
END:DAYLIGHT
BEGIN:STANDARD
TZOFFSETFROM:+0200
TZOFFSETTO:+0100
TZNAME:CET
DTSTART:20251026T010000
END:STANDARD
END:VTIMEZONE
BEGIN:VEVENT
DTSTART;TZID=Europe/Paris:20241012T193000
DTEND;TZID=Europe/Paris:20241012T233000
DTSTAMP:20260424T042701
CREATED:20241011T104909Z
LAST-MODIFIED:20241011T104909Z
UID:10000592-1728761400-1728775800@ccpc51.fr
SUMMARY:Théâtre - Les Saltimbanques de Montmort-Lucy
DESCRIPTION:Les Saltimbanques de Montmort-Lucy vous donnent rendez-vous le samedi 12 octobre 2024 pour une soirée théâtre à la Salle des Fêtes d’Orbais-L’Abbaye. \nAu programme de la soirée :\n– À 19h30 : « Mystère chez Kleber » – spectacle de l’atelier enfants\n– À 20h30 : « Un si beau coupable ! » – spectacle de l’atelier adultes \nOuverture des portes à 18h30 / buvette et petite restauration sur place \nTarifs: Min. 5€ / Max. 10€. Réservation conseillée
URL:https://ccpc51.fr/evenement/theatre-les-saltimbanques-de-montmort-lucy/
LOCATION:Salle des fêtes à ORBAIS L’ABBAYE
CATEGORIES:Soirée à thème,Théâtre
ATTACH;FMTTYPE=image/jpeg:https://ccpc51.fr/wp-content/uploads/2024/10/theatre-orbais.jpg
END:VEVENT
END:VCALENDAR