BEGIN:VCALENDAR
VERSION:2.0
PRODID:-//Communauté de Communes des Paysages de la Champagne - ECPv6.15.17//NONSGML v1.0//EN
CALSCALE:GREGORIAN
METHOD:PUBLISH
X-WR-CALNAME:Communauté de Communes des Paysages de la Champagne
X-ORIGINAL-URL:https://ccpc51.fr
X-WR-CALDESC:Évènements pour Communauté de Communes des Paysages de la Champagne
REFRESH-INTERVAL;VALUE=DURATION:PT1H
X-Robots-Tag:noindex
X-PUBLISHED-TTL:PT1H
BEGIN:VTIMEZONE
TZID:Europe/Paris
BEGIN:DAYLIGHT
TZOFFSETFROM:+0100
TZOFFSETTO:+0200
TZNAME:CEST
DTSTART:20230326T010000
END:DAYLIGHT
BEGIN:STANDARD
TZOFFSETFROM:+0200
TZOFFSETTO:+0100
TZNAME:CET
DTSTART:20231029T010000
END:STANDARD
BEGIN:DAYLIGHT
TZOFFSETFROM:+0100
TZOFFSETTO:+0200
TZNAME:CEST
DTSTART:20240331T010000
END:DAYLIGHT
BEGIN:STANDARD
TZOFFSETFROM:+0200
TZOFFSETTO:+0100
TZNAME:CET
DTSTART:20241027T010000
END:STANDARD
BEGIN:DAYLIGHT
TZOFFSETFROM:+0100
TZOFFSETTO:+0200
TZNAME:CEST
DTSTART:20250330T010000
END:DAYLIGHT
BEGIN:STANDARD
TZOFFSETFROM:+0200
TZOFFSETTO:+0100
TZNAME:CET
DTSTART:20251026T010000
END:STANDARD
BEGIN:DAYLIGHT
TZOFFSETFROM:+0100
TZOFFSETTO:+0200
TZNAME:CEST
DTSTART:20260329T010000
END:DAYLIGHT
BEGIN:STANDARD
TZOFFSETFROM:+0200
TZOFFSETTO:+0100
TZNAME:CET
DTSTART:20261025T010000
END:STANDARD
END:VTIMEZONE
BEGIN:VEVENT
DTSTART;VALUE=DATE:20250719
DTEND;VALUE=DATE:20250720
DTSTAMP:20260425T003614
CREATED:20250522T083836Z
LAST-MODIFIED:20250709T144951Z
UID:10000867-1752883200-1752969599@ccpc51.fr
SUMMARY:Soirée Champêtre & Cinéma en plein-air
DESCRIPTION:L’Association « La Vallée du Surmelin » vous invite à une soirée champêtre\, le samedi 19 juillet 2025\, à l’occasion d’une séance de ciméma en plein-air. \nRepas champêtre et Cinéma en plein air : 20€/adulte\, 10€/enfant (- 12 ans)\nassiette apéritive\, salades composées\, grillades\, dessert \nFormule ciné-dessert à partir de 21h30 : 8€ \nFilm familial « Un p’tit truc en plus »\nUn père\, un fils\, un refuge improbable… et des rencontres qui changent tout.\nPensez à apporter plaids et sièges pour votre confort. \nDate limite de réservation : 16 juillet 2025\nRéservation en ligne sur helloasso.com ou par téléphone au 06 42 88 87 42 \nLieu pouvant être modifié en fonction des conditions météorologiques
URL:https://ccpc51.fr/evenement/soiree-champetre-cinema-en-plein-air/
LOCATION:Centre du village – ORBAIS L’ABBAYE\, rue de la croix rouge\, ORBAIS L'ABBAYE
CATEGORIES:Soirée à thème
ATTACH;FMTTYPE=image/png:https://ccpc51.fr/wp-content/uploads/2025/05/cinema-de-plein-air-2.png
END:VEVENT
BEGIN:VEVENT
DTSTART;TZID=Europe/Paris:20240630T090000
DTEND;TZID=Europe/Paris:20240630T163000
DTSTAMP:20260425T003614
CREATED:20240606T134750Z
LAST-MODIFIED:20240606T135505Z
UID:10000537-1719738000-1719765000@ccpc51.fr
SUMMARY:Rassemblement Autos & Motos
DESCRIPTION:Tuning Car Power (lutte contre le cancer) organise un rassemblement autos (Tuning\, youngtimers\,…) et motos\, les samedis 29 et dimanche 30 juin 2024 à Orbais-l’Abbaye. \nAu programme de ces 2 jours: DJ\, stands pro\, concours et jeux le dimanche\, buvette & restauration. \nLes fonds récoltés seront intégralement reversés à l’institut Jean Godinot de Reims.
URL:https://ccpc51.fr/evenement/rassemblement-autos-motos/2024-06-30/
LOCATION:Centre du village – ORBAIS L’ABBAYE\, rue de la croix rouge\, ORBAIS L'ABBAYE
CATEGORIES:Evènement caritatif / social
ATTACH;FMTTYPE=image/jpeg:https://ccpc51.fr/wp-content/uploads/2024/06/cancer.jpg
END:VEVENT
BEGIN:VEVENT
DTSTART;TZID=Europe/Paris:20240629T160000
DTEND;TZID=Europe/Paris:20240630T013000
DTSTAMP:20260425T003614
CREATED:20240606T134750Z
LAST-MODIFIED:20240606T135505Z
UID:10000536-1719676800-1719711000@ccpc51.fr
SUMMARY:Rassemblement Autos & Motos
DESCRIPTION:Tuning Car Power (lutte contre le cancer) organise un rassemblement autos (Tuning\, youngtimers\,…) et motos\, les samedis 29 et dimanche 30 juin 2024 à Orbais-l’Abbaye. \nAu programme de ces 2 jours: DJ\, stands pro\, concours et jeux le dimanche\, buvette & restauration. \nLes fonds récoltés seront intégralement reversés à l’institut Jean Godinot de Reims.
URL:https://ccpc51.fr/evenement/rassemblement-autos-motos/2024-06-29/
LOCATION:Centre du village – ORBAIS L’ABBAYE\, rue de la croix rouge\, ORBAIS L'ABBAYE
CATEGORIES:Evènement caritatif / social
ATTACH;FMTTYPE=image/jpeg:https://ccpc51.fr/wp-content/uploads/2024/06/cancer.jpg
END:VEVENT
BEGIN:VEVENT
DTSTART;TZID=Europe/Paris:20240622T170000
DTEND;TZID=Europe/Paris:20240622T233000
DTSTAMP:20260425T003614
CREATED:20240606T141505Z
LAST-MODIFIED:20240606T141519Z
UID:10000538-1719075600-1719099000@ccpc51.fr
SUMMARY:Festy Bière et Rock
DESCRIPTION:Le Comité des fêtes d’Orbais-l’Abbaye organise sa fête de la bière\, le samedi 22 juin 2024. \nVenez découvrir de nombreux brasseurs locaux et déguster leurs produits ( La Gounasse\, L’Agame barbu\, La Chopine\, Les Fables\, Saint Gond) accompagnés de plateaux de charcuterie ou par les suggestions de La Gam’aile de Fée (Food truck)\, le tout dans une ambiance musicale avec 2 Zero\, Kasha and the Sinners\, Shore 22.
URL:https://ccpc51.fr/evenement/festy-biere-et-rock/
LOCATION:Centre du village – ORBAIS L’ABBAYE\, rue de la croix rouge\, ORBAIS L'ABBAYE
CATEGORIES:Soirée à thème
ATTACH;FMTTYPE=image/jpeg:https://ccpc51.fr/wp-content/uploads/2024/06/biere-6.jpg
END:VEVENT
END:VCALENDAR