BEGIN:VCALENDAR
VERSION:2.0
PRODID:-//Communauté de Communes des Paysages de la Champagne - ECPv6.15.17//NONSGML v1.0//EN
CALSCALE:GREGORIAN
METHOD:PUBLISH
X-ORIGINAL-URL:https://ccpc51.fr
X-WR-CALDESC:Évènements pour Communauté de Communes des Paysages de la Champagne
REFRESH-INTERVAL;VALUE=DURATION:PT1H
X-Robots-Tag:noindex
X-PUBLISHED-TTL:PT1H
BEGIN:VTIMEZONE
TZID:Europe/Paris
BEGIN:DAYLIGHT
TZOFFSETFROM:+0100
TZOFFSETTO:+0200
TZNAME:CEST
DTSTART:20240331T010000
END:DAYLIGHT
BEGIN:STANDARD
TZOFFSETFROM:+0200
TZOFFSETTO:+0100
TZNAME:CET
DTSTART:20241027T010000
END:STANDARD
BEGIN:DAYLIGHT
TZOFFSETFROM:+0100
TZOFFSETTO:+0200
TZNAME:CEST
DTSTART:20250330T010000
END:DAYLIGHT
BEGIN:STANDARD
TZOFFSETFROM:+0200
TZOFFSETTO:+0100
TZNAME:CET
DTSTART:20251026T010000
END:STANDARD
BEGIN:DAYLIGHT
TZOFFSETFROM:+0100
TZOFFSETTO:+0200
TZNAME:CEST
DTSTART:20260329T010000
END:DAYLIGHT
BEGIN:STANDARD
TZOFFSETFROM:+0200
TZOFFSETTO:+0100
TZNAME:CET
DTSTART:20261025T010000
END:STANDARD
END:VTIMEZONE
BEGIN:VEVENT
DTSTART;TZID=Europe/Paris:20250921T143000
DTEND;TZID=Europe/Paris:20250921T163000
DTSTAMP:20260425T051738
CREATED:20250916T143239Z
LAST-MODIFIED:20250916T143239Z
UID:10001470-1758465000-1758472200@ccpc51.fr
SUMMARY:Journées Européenne du Patrimoine - Crypte de Troissy
DESCRIPTION:À l’occasion des Journées Européennes du Patrimoine\, le dimanche 21 septembre 2025\, venez découvrir la Crypte de Troissy\, lieu historique qui témoigne de l’architecture et de la riche histoire de sa période. \nAventurez-vous dans la crypte le temps d’une visite commentée dans une ambiance médiévale ! \n***3 départs de visite vous sont proposés : 14h30\, 15h30 & 16h30*** \nParking & point de rassemblement Place de la République
URL:https://ccpc51.fr/evenement/journees-europeenne-du-patrimoine-crypte-de-troissy-2/
LOCATION:Crypte de Troissy\, Place de la République\, TROISSY\, 51700\, France
CATEGORIES:Exposition / Théâtre
ATTACH;FMTTYPE=image/jpeg:https://ccpc51.fr/wp-content/uploads/2025/09/crypte-troissy-bouquigny-3.jpg
ORGANIZER;CN="Office de tourisme des Paysages de la Champagne":MAILTO:contact@tourisme-paysages-champagne.com
END:VEVENT
END:VCALENDAR