BEGIN:VCALENDAR
VERSION:2.0
PRODID:-//Communauté de Communes des Paysages de la Champagne - ECPv6.15.17//NONSGML v1.0//EN
CALSCALE:GREGORIAN
METHOD:PUBLISH
X-WR-CALNAME:Communauté de Communes des Paysages de la Champagne
X-ORIGINAL-URL:https://ccpc51.fr
X-WR-CALDESC:Évènements pour Communauté de Communes des Paysages de la Champagne
REFRESH-INTERVAL;VALUE=DURATION:PT1H
X-Robots-Tag:noindex
X-PUBLISHED-TTL:PT1H
BEGIN:VTIMEZONE
TZID:Europe/Paris
BEGIN:DAYLIGHT
TZOFFSETFROM:+0100
TZOFFSETTO:+0200
TZNAME:CEST
DTSTART:20230326T010000
END:DAYLIGHT
BEGIN:STANDARD
TZOFFSETFROM:+0200
TZOFFSETTO:+0100
TZNAME:CET
DTSTART:20231029T010000
END:STANDARD
BEGIN:DAYLIGHT
TZOFFSETFROM:+0100
TZOFFSETTO:+0200
TZNAME:CEST
DTSTART:20240331T010000
END:DAYLIGHT
BEGIN:STANDARD
TZOFFSETFROM:+0200
TZOFFSETTO:+0100
TZNAME:CET
DTSTART:20241027T010000
END:STANDARD
BEGIN:DAYLIGHT
TZOFFSETFROM:+0100
TZOFFSETTO:+0200
TZNAME:CEST
DTSTART:20250330T010000
END:DAYLIGHT
BEGIN:STANDARD
TZOFFSETFROM:+0200
TZOFFSETTO:+0100
TZNAME:CET
DTSTART:20251026T010000
END:STANDARD
BEGIN:DAYLIGHT
TZOFFSETFROM:+0100
TZOFFSETTO:+0200
TZNAME:CEST
DTSTART:20260329T010000
END:DAYLIGHT
BEGIN:STANDARD
TZOFFSETFROM:+0200
TZOFFSETTO:+0100
TZNAME:CET
DTSTART:20261025T010000
END:STANDARD
END:VTIMEZONE
BEGIN:VEVENT
DTSTART;VALUE=DATE:20250814
DTEND;VALUE=DATE:20250821
DTSTAMP:20260425T045545
CREATED:20250804T151418Z
LAST-MODIFIED:20250804T151418Z
UID:10001432-1755129600-1755734399@ccpc51.fr
SUMMARY:Fête patronale - Dormans
DESCRIPTION:Venez passer un agréable moment en famille à la Fête patronale de Dormans du 14 au 20 août 2025\, de nombreuses animations\, manèges & attractions sont prévus. Au programme de ces 6 jours de festivités :\n***JEUDI 14 AOÛT 2025***\nOuverture fête foraine & Bal de nuit avec The DJ’s\n***SAMEDI 16 AOÛT 2025***\nFête foraine & Bal de nuit avec The DJ’s\n***DIMANCHE 17 AOÛT 2025***\n16h00 : concert Eddy PARKER & Rémy PARKER (saison 8 de The Voice Kids)
URL:https://ccpc51.fr/evenement/fete-patronale-dormans-3/
LOCATION:DORMANS\, Centre ville\, DORMANS\, 51700\, France
CATEGORIES:Fête patronale
ATTACH;FMTTYPE=image/png:https://ccpc51.fr/wp-content/uploads/2025/08/fete-5.png
END:VEVENT
BEGIN:VEVENT
DTSTART;TZID=Europe/Paris:20240508T080000
DTEND;TZID=Europe/Paris:20240512T170000
DTSTAMP:20260425T045545
CREATED:20240415T094333Z
LAST-MODIFIED:20240415T094333Z
UID:10000477-1715155200-1715533200@ccpc51.fr
SUMMARY:Rencontre carpe loisir
DESCRIPTION:La Vandoise organise la 3ème édition de sa manifestation « rencontre carpe loisir » sur l’ensemble du bief de Dormans (13km)\, du 8 au 12 mai 2024. \n20 équipes seront en liste – réservation dès à présent par mail à nicopierre.laurier@gmail.com ou par téléphone 06 62 49 75 97 \n***Récompense pour tous les participants*** \n 
URL:https://ccpc51.fr/evenement/rencontre-carpe-loisir/
LOCATION:DORMANS\, Centre ville\, DORMANS\, 51700\, France
CATEGORIES:Pêche
ATTACH;FMTTYPE=image/jpeg:https://ccpc51.fr/wp-content/uploads/2024/04/rencontre-carpe-loisir.jpg
ORGANIZER;CN="La Vandoise":MAILTO:nicopierre.laurier@gmail.com
END:VEVENT
END:VCALENDAR