BEGIN:VCALENDAR
VERSION:2.0
PRODID:-//Communauté de Communes des Paysages de la Champagne - ECPv6.15.17//NONSGML v1.0//EN
CALSCALE:GREGORIAN
METHOD:PUBLISH
X-ORIGINAL-URL:https://ccpc51.fr
X-WR-CALDESC:Évènements pour Communauté de Communes des Paysages de la Champagne
REFRESH-INTERVAL;VALUE=DURATION:PT1H
X-Robots-Tag:noindex
X-PUBLISHED-TTL:PT1H
BEGIN:VTIMEZONE
TZID:Europe/Paris
BEGIN:DAYLIGHT
TZOFFSETFROM:+0100
TZOFFSETTO:+0200
TZNAME:CEST
DTSTART:20240331T010000
END:DAYLIGHT
BEGIN:STANDARD
TZOFFSETFROM:+0200
TZOFFSETTO:+0100
TZNAME:CET
DTSTART:20241027T010000
END:STANDARD
BEGIN:DAYLIGHT
TZOFFSETFROM:+0100
TZOFFSETTO:+0200
TZNAME:CEST
DTSTART:20250330T010000
END:DAYLIGHT
BEGIN:STANDARD
TZOFFSETFROM:+0200
TZOFFSETTO:+0100
TZNAME:CET
DTSTART:20251026T010000
END:STANDARD
BEGIN:DAYLIGHT
TZOFFSETFROM:+0100
TZOFFSETTO:+0200
TZNAME:CEST
DTSTART:20260329T010000
END:DAYLIGHT
BEGIN:STANDARD
TZOFFSETFROM:+0200
TZOFFSETTO:+0100
TZNAME:CET
DTSTART:20261025T010000
END:STANDARD
BEGIN:DAYLIGHT
TZOFFSETFROM:+0100
TZOFFSETTO:+0200
TZNAME:CEST
DTSTART:20270328T010000
END:DAYLIGHT
BEGIN:STANDARD
TZOFFSETFROM:+0200
TZOFFSETTO:+0100
TZNAME:CET
DTSTART:20271031T010000
END:STANDARD
END:VTIMEZONE
BEGIN:VEVENT
DTSTART;TZID=Europe/Paris:20260415T140000
DTEND;TZID=Europe/Paris:20260415T160000
DTSTAMP:20260423T095608
CREATED:20251216T111225Z
LAST-MODIFIED:20260323T150547Z
UID:10001504-1776261600-1776268800@ccpc51.fr
SUMMARY:Ateliers Floraux
DESCRIPTION:Venez partager d’agréables moments de convivialité en réalisant de magnifiques bouquets lors des ateliers floraux mensuels organisés à la mairie de Courjeonnet. \n  \nPlus d’infos au 06 62 82 19 67 ou à lange.florence@wanadoo.fr
URL:https://ccpc51.fr/evenement/ateliers-floraux/2026-04-15/
LOCATION:MAIRIE DE COURJEONNET\, 7 rue du Chêne la Jansonne\, COURJEONNET\, 51270
CATEGORIES:Ateliers évènementiels / Conférence
ATTACH;FMTTYPE=image/png:https://ccpc51.fr/wp-content/uploads/2025/12/composition-florale.png
ORGANIZER;CN="Maire de Courjeonnet":MAILTO:commune-de-courjeonnet@orange.fr
END:VEVENT
BEGIN:VEVENT
DTSTART;TZID=Europe/Paris:20260318T140000
DTEND;TZID=Europe/Paris:20260318T160000
DTSTAMP:20260423T095608
CREATED:20251216T111225Z
LAST-MODIFIED:20260323T150547Z
UID:10001503-1773842400-1773849600@ccpc51.fr
SUMMARY:Ateliers Floraux
DESCRIPTION:Venez partager d’agréables moments de convivialité en réalisant de magnifiques bouquets lors des ateliers floraux mensuels organisés à la mairie de Courjeonnet. \n  \nPlus d’infos au 06 62 82 19 67 ou à lange.florence@wanadoo.fr
URL:https://ccpc51.fr/evenement/ateliers-floraux/2026-03-18/
LOCATION:MAIRIE DE COURJEONNET\, 7 rue du Chêne la Jansonne\, COURJEONNET\, 51270
CATEGORIES:Ateliers évènementiels / Conférence
ATTACH;FMTTYPE=image/png:https://ccpc51.fr/wp-content/uploads/2025/12/composition-florale.png
ORGANIZER;CN="Maire de Courjeonnet":MAILTO:commune-de-courjeonnet@orange.fr
END:VEVENT
BEGIN:VEVENT
DTSTART;TZID=Europe/Paris:20260311T140000
DTEND;TZID=Europe/Paris:20260311T160000
DTSTAMP:20260423T095608
CREATED:20251216T111225Z
LAST-MODIFIED:20260323T150547Z
UID:10001572-1773237600-1773244800@ccpc51.fr
SUMMARY:Ateliers Floraux
DESCRIPTION:Venez partager d’agréables moments de convivialité en réalisant de magnifiques bouquets lors des ateliers floraux mensuels organisés à la mairie de Courjeonnet. \n  \nPlus d’infos au 06 62 82 19 67 ou à lange.florence@wanadoo.fr
URL:https://ccpc51.fr/evenement/ateliers-floraux/2026-03-11/
LOCATION:MAIRIE DE COURJEONNET\, 7 rue du Chêne la Jansonne\, COURJEONNET\, 51270
CATEGORIES:Ateliers évènementiels / Conférence
ATTACH;FMTTYPE=image/png:https://ccpc51.fr/wp-content/uploads/2025/12/composition-florale.png
ORGANIZER;CN="Maire de Courjeonnet":MAILTO:commune-de-courjeonnet@orange.fr
END:VEVENT
BEGIN:VEVENT
DTSTART;TZID=Europe/Paris:20260218T140000
DTEND;TZID=Europe/Paris:20260218T160000
DTSTAMP:20260423T095608
CREATED:20251216T111225Z
LAST-MODIFIED:20260323T150547Z
UID:10001502-1771423200-1771430400@ccpc51.fr
SUMMARY:Ateliers Floraux
DESCRIPTION:Venez partager d’agréables moments de convivialité en réalisant de magnifiques bouquets lors des ateliers floraux mensuels organisés à la mairie de Courjeonnet. \n  \nPlus d’infos au 06 62 82 19 67 ou à lange.florence@wanadoo.fr
URL:https://ccpc51.fr/evenement/ateliers-floraux/2026-02-18/
LOCATION:MAIRIE DE COURJEONNET\, 7 rue du Chêne la Jansonne\, COURJEONNET\, 51270
CATEGORIES:Ateliers évènementiels / Conférence
ATTACH;FMTTYPE=image/png:https://ccpc51.fr/wp-content/uploads/2025/12/composition-florale.png
ORGANIZER;CN="Maire de Courjeonnet":MAILTO:commune-de-courjeonnet@orange.fr
END:VEVENT
BEGIN:VEVENT
DTSTART;TZID=Europe/Paris:20260211T140000
DTEND;TZID=Europe/Paris:20260211T160000
DTSTAMP:20260423T095608
CREATED:20251216T111225Z
LAST-MODIFIED:20260323T150547Z
UID:10001570-1770818400-1770825600@ccpc51.fr
SUMMARY:Ateliers Floraux
DESCRIPTION:Venez partager d’agréables moments de convivialité en réalisant de magnifiques bouquets lors des ateliers floraux mensuels organisés à la mairie de Courjeonnet. \n  \nPlus d’infos au 06 62 82 19 67 ou à lange.florence@wanadoo.fr
URL:https://ccpc51.fr/evenement/ateliers-floraux/2026-02-11/
LOCATION:MAIRIE DE COURJEONNET\, 7 rue du Chêne la Jansonne\, COURJEONNET\, 51270
CATEGORIES:Ateliers évènementiels / Conférence
ATTACH;FMTTYPE=image/png:https://ccpc51.fr/wp-content/uploads/2025/12/composition-florale.png
ORGANIZER;CN="Maire de Courjeonnet":MAILTO:commune-de-courjeonnet@orange.fr
END:VEVENT
BEGIN:VEVENT
DTSTART;TZID=Europe/Paris:20260128T140000
DTEND;TZID=Europe/Paris:20260128T160000
DTSTAMP:20260423T095608
CREATED:20251216T111225Z
LAST-MODIFIED:20260323T150547Z
UID:10001569-1769608800-1769616000@ccpc51.fr
SUMMARY:Ateliers Floraux
DESCRIPTION:Venez partager d’agréables moments de convivialité en réalisant de magnifiques bouquets lors des ateliers floraux mensuels organisés à la mairie de Courjeonnet. \n  \nPlus d’infos au 06 62 82 19 67 ou à lange.florence@wanadoo.fr
URL:https://ccpc51.fr/evenement/ateliers-floraux/2026-01-28/
LOCATION:MAIRIE DE COURJEONNET\, 7 rue du Chêne la Jansonne\, COURJEONNET\, 51270
CATEGORIES:Ateliers évènementiels / Conférence
ATTACH;FMTTYPE=image/png:https://ccpc51.fr/wp-content/uploads/2025/12/composition-florale.png
ORGANIZER;CN="Maire de Courjeonnet":MAILTO:commune-de-courjeonnet@orange.fr
END:VEVENT
BEGIN:VEVENT
DTSTART;TZID=Europe/Paris:20260121T140000
DTEND;TZID=Europe/Paris:20260121T160000
DTSTAMP:20260423T095608
CREATED:20251216T111225Z
LAST-MODIFIED:20260323T150547Z
UID:10001501-1769004000-1769011200@ccpc51.fr
SUMMARY:Ateliers Floraux
DESCRIPTION:Venez partager d’agréables moments de convivialité en réalisant de magnifiques bouquets lors des ateliers floraux mensuels organisés à la mairie de Courjeonnet. \n  \nPlus d’infos au 06 62 82 19 67 ou à lange.florence@wanadoo.fr
URL:https://ccpc51.fr/evenement/ateliers-floraux/2026-01-21/
LOCATION:MAIRIE DE COURJEONNET\, 7 rue du Chêne la Jansonne\, COURJEONNET\, 51270
CATEGORIES:Ateliers évènementiels / Conférence
ATTACH;FMTTYPE=image/png:https://ccpc51.fr/wp-content/uploads/2025/12/composition-florale.png
ORGANIZER;CN="Maire de Courjeonnet":MAILTO:commune-de-courjeonnet@orange.fr
END:VEVENT
BEGIN:VEVENT
DTSTART;TZID=Europe/Paris:20251217T140000
DTEND;TZID=Europe/Paris:20251217T160000
DTSTAMP:20260423T095608
CREATED:20251216T111225Z
LAST-MODIFIED:20260323T150547Z
UID:10001500-1765980000-1765987200@ccpc51.fr
SUMMARY:Ateliers Floraux
DESCRIPTION:Venez partager d’agréables moments de convivialité en réalisant de magnifiques bouquets lors des ateliers floraux mensuels organisés à la mairie de Courjeonnet. \n  \nPlus d’infos au 06 62 82 19 67 ou à lange.florence@wanadoo.fr
URL:https://ccpc51.fr/evenement/ateliers-floraux/2025-12-17/
LOCATION:MAIRIE DE COURJEONNET\, 7 rue du Chêne la Jansonne\, COURJEONNET\, 51270
CATEGORIES:Ateliers évènementiels / Conférence
ATTACH;FMTTYPE=image/png:https://ccpc51.fr/wp-content/uploads/2025/12/composition-florale.png
ORGANIZER;CN="Maire de Courjeonnet":MAILTO:commune-de-courjeonnet@orange.fr
END:VEVENT
END:VCALENDAR