BEGIN:VCALENDAR
VERSION:2.0
PRODID:-//Communauté de Communes des Paysages de la Champagne - ECPv6.15.17//NONSGML v1.0//EN
CALSCALE:GREGORIAN
METHOD:PUBLISH
X-ORIGINAL-URL:https://ccpc51.fr
X-WR-CALDESC:Évènements pour Communauté de Communes des Paysages de la Champagne
REFRESH-INTERVAL;VALUE=DURATION:PT1H
X-Robots-Tag:noindex
X-PUBLISHED-TTL:PT1H
BEGIN:VTIMEZONE
TZID:Europe/Paris
BEGIN:DAYLIGHT
TZOFFSETFROM:+0100
TZOFFSETTO:+0200
TZNAME:CEST
DTSTART:20240331T010000
END:DAYLIGHT
BEGIN:STANDARD
TZOFFSETFROM:+0200
TZOFFSETTO:+0100
TZNAME:CET
DTSTART:20241027T010000
END:STANDARD
BEGIN:DAYLIGHT
TZOFFSETFROM:+0100
TZOFFSETTO:+0200
TZNAME:CEST
DTSTART:20250330T010000
END:DAYLIGHT
BEGIN:STANDARD
TZOFFSETFROM:+0200
TZOFFSETTO:+0100
TZNAME:CET
DTSTART:20251026T010000
END:STANDARD
BEGIN:DAYLIGHT
TZOFFSETFROM:+0100
TZOFFSETTO:+0200
TZNAME:CEST
DTSTART:20260329T010000
END:DAYLIGHT
BEGIN:STANDARD
TZOFFSETFROM:+0200
TZOFFSETTO:+0100
TZNAME:CET
DTSTART:20261025T010000
END:STANDARD
END:VTIMEZONE
BEGIN:VEVENT
DTSTART;VALUE=DATE:20250706
DTEND;VALUE=DATE:20250707
DTSTAMP:20260425T030241
CREATED:20250207T160255Z
LAST-MODIFIED:20250207T160255Z
UID:10000713-1751760000-1751846399@ccpc51.fr
SUMMARY:Brocante / Vide-Grenier
DESCRIPTION:Le comité des fêtes de le Baizil organise sa brocante\, le dimanche 6 juillet 2025. \nBuvette & Restauration sur place
URL:https://ccpc51.fr/evenement/brocante-vide-grenier/
LOCATION:Près de l’ancienne scierie\, Rue de la Procurerie\, LE BAIZIL
CATEGORIES:Brocante,Vide-grenier
ATTACH;FMTTYPE=image/jpeg:https://ccpc51.fr/wp-content/uploads/2025/02/brocante-95.jpg
ORGANIZER;CN="Comit%C3%A9 des f%C3%AAtes de Le Baizil":MAILTO:comitelebaizil@gmail.com
END:VEVENT
END:VCALENDAR