BEGIN:VCALENDAR
VERSION:2.0
PRODID:-//Communauté de Communes des Paysages de la Champagne - ECPv6.15.17//NONSGML v1.0//EN
CALSCALE:GREGORIAN
METHOD:PUBLISH
X-ORIGINAL-URL:https://ccpc51.fr
X-WR-CALDESC:Évènements pour Communauté de Communes des Paysages de la Champagne
REFRESH-INTERVAL;VALUE=DURATION:PT1H
X-Robots-Tag:noindex
X-PUBLISHED-TTL:PT1H
BEGIN:VTIMEZONE
TZID:Europe/Paris
BEGIN:DAYLIGHT
TZOFFSETFROM:+0100
TZOFFSETTO:+0200
TZNAME:CEST
DTSTART:20230326T010000
END:DAYLIGHT
BEGIN:STANDARD
TZOFFSETFROM:+0200
TZOFFSETTO:+0100
TZNAME:CET
DTSTART:20231029T010000
END:STANDARD
BEGIN:DAYLIGHT
TZOFFSETFROM:+0100
TZOFFSETTO:+0200
TZNAME:CEST
DTSTART:20240331T010000
END:DAYLIGHT
BEGIN:STANDARD
TZOFFSETFROM:+0200
TZOFFSETTO:+0100
TZNAME:CET
DTSTART:20241027T010000
END:STANDARD
BEGIN:DAYLIGHT
TZOFFSETFROM:+0100
TZOFFSETTO:+0200
TZNAME:CEST
DTSTART:20250330T010000
END:DAYLIGHT
BEGIN:STANDARD
TZOFFSETFROM:+0200
TZOFFSETTO:+0100
TZNAME:CET
DTSTART:20251026T010000
END:STANDARD
END:VTIMEZONE
BEGIN:VEVENT
DTSTART;TZID=Europe/Paris:20241031T150000
DTEND;TZID=Europe/Paris:20241031T200000
DTSTAMP:20260421T125755
CREATED:20241024T090227Z
LAST-MODIFIED:20241024T090418Z
UID:10000614-1730386800-1730404800@ccpc51.fr
SUMMARY:Halloween - Passy-Grigny
DESCRIPTION:À l’occasion d’Halloween\, Petits & Grands sont conviés dans la salle de classe de Passy-Grigny pour creuser et décorer des potirons\, créer des bougies… Mais partager un copieux goûter ! \nÀ partir de 17h00\, monstres\, sorcières et fantômes partiront en quête de friandises dans les rues du village ! \nUn verre de l’amitié sera servi à l’issue de cette aventure.
URL:https://ccpc51.fr/evenement/halloween-passy-grigny/
LOCATION:Salle de classe à PASSY-GRIGNY\, place de la Mairie
CATEGORIES:Évènement pour enfants
ATTACH;FMTTYPE=image/png:https://ccpc51.fr/wp-content/uploads/2024/10/halloween1.png
END:VEVENT
END:VCALENDAR