BEGIN:VCALENDAR
VERSION:2.0
PRODID:-//Communauté de Communes des Paysages de la Champagne - ECPv6.15.17//NONSGML v1.0//EN
CALSCALE:GREGORIAN
METHOD:PUBLISH
X-WR-CALNAME:Communauté de Communes des Paysages de la Champagne
X-ORIGINAL-URL:https://ccpc51.fr
X-WR-CALDESC:Évènements pour Communauté de Communes des Paysages de la Champagne
REFRESH-INTERVAL;VALUE=DURATION:PT1H
X-Robots-Tag:noindex
X-PUBLISHED-TTL:PT1H
BEGIN:VTIMEZONE
TZID:Europe/Paris
BEGIN:DAYLIGHT
TZOFFSETFROM:+0100
TZOFFSETTO:+0200
TZNAME:CEST
DTSTART:20230326T010000
END:DAYLIGHT
BEGIN:STANDARD
TZOFFSETFROM:+0200
TZOFFSETTO:+0100
TZNAME:CET
DTSTART:20231029T010000
END:STANDARD
BEGIN:DAYLIGHT
TZOFFSETFROM:+0100
TZOFFSETTO:+0200
TZNAME:CEST
DTSTART:20240331T010000
END:DAYLIGHT
BEGIN:STANDARD
TZOFFSETFROM:+0200
TZOFFSETTO:+0100
TZNAME:CET
DTSTART:20241027T010000
END:STANDARD
BEGIN:DAYLIGHT
TZOFFSETFROM:+0100
TZOFFSETTO:+0200
TZNAME:CEST
DTSTART:20250330T010000
END:DAYLIGHT
BEGIN:STANDARD
TZOFFSETFROM:+0200
TZOFFSETTO:+0100
TZNAME:CET
DTSTART:20251026T010000
END:STANDARD
BEGIN:DAYLIGHT
TZOFFSETFROM:+0100
TZOFFSETTO:+0200
TZNAME:CEST
DTSTART:20260329T010000
END:DAYLIGHT
BEGIN:STANDARD
TZOFFSETFROM:+0200
TZOFFSETTO:+0100
TZNAME:CET
DTSTART:20261025T010000
END:STANDARD
BEGIN:DAYLIGHT
TZOFFSETFROM:+0100
TZOFFSETTO:+0200
TZNAME:CEST
DTSTART:20270328T010000
END:DAYLIGHT
BEGIN:STANDARD
TZOFFSETFROM:+0200
TZOFFSETTO:+0100
TZNAME:CET
DTSTART:20271031T010000
END:STANDARD
END:VTIMEZONE
BEGIN:VEVENT
DTSTART;TZID=Europe/Paris:20260329T090000
DTEND;TZID=Europe/Paris:20260329T170000
DTSTAMP:20260420T071541
CREATED:20260309T140858Z
LAST-MODIFIED:20260309T140858Z
UID:10001922-1774774800-1774803600@ccpc51.fr
SUMMARY:Baby Broc – Cuchery
DESCRIPTION:Envie de vider vos placards ou faire de bonnes affaires ? Rendez-vous au Baby Broc de Cuchery pour chiner vêtements (0-16 ans)\, jouets et matériel de puériculture à petits prix\, le Dimanche 29 mars 2026 à la salle des Fêtes du village ! \n***Buvette et petite restauration sur place***
URL:https://ccpc51.fr/evenement/baby-broc-cuchery/
LOCATION:Salle des fêtes à CUCHERY
CATEGORIES:Bourse,Brocante
ATTACH;FMTTYPE=image/jpeg:https://ccpc51.fr/wp-content/uploads/2026/03/baby-broc-cuchery.jpg
END:VEVENT
BEGIN:VEVENT
DTSTART;TZID=Europe/Paris:20241123T190000
DTEND;TZID=Europe/Paris:20241123T233000
DTSTAMP:20260420T071541
CREATED:20241121T144025Z
LAST-MODIFIED:20241121T144025Z
UID:10000647-1732388400-1732404600@ccpc51.fr
SUMMARY:Soirée dansante
DESCRIPTION:L’Association des Vétérans de la Vallée de la Marne organise une soirée dansante\, le samedi 23 novembre 2024 à la Salle des fêtes de Cuchery. \nAu programme de la soirée : paëlla & animation par le groupe « The WOS »! \nTarifs : Adulte 20 € (repas + dessert + animation inclus) / Enfant 10 €
URL:https://ccpc51.fr/evenement/soiree-dansante-2/
LOCATION:Salle des fêtes à CUCHERY
CATEGORIES:Soirée à thème
ATTACH;FMTTYPE=image/png:https://ccpc51.fr/wp-content/uploads/2024/11/instruments-de-musique.png
END:VEVENT
END:VCALENDAR