BEGIN:VCALENDAR
VERSION:2.0
PRODID:-//Communauté de Communes des Paysages de la Champagne - ECPv6.15.17//NONSGML v1.0//EN
CALSCALE:GREGORIAN
METHOD:PUBLISH
X-ORIGINAL-URL:https://ccpc51.fr
X-WR-CALDESC:Évènements pour Communauté de Communes des Paysages de la Champagne
REFRESH-INTERVAL;VALUE=DURATION:PT1H
X-Robots-Tag:noindex
X-PUBLISHED-TTL:PT1H
BEGIN:VTIMEZONE
TZID:Europe/Paris
BEGIN:DAYLIGHT
TZOFFSETFROM:+0100
TZOFFSETTO:+0200
TZNAME:CEST
DTSTART:20230326T010000
END:DAYLIGHT
BEGIN:STANDARD
TZOFFSETFROM:+0200
TZOFFSETTO:+0100
TZNAME:CET
DTSTART:20231029T010000
END:STANDARD
BEGIN:DAYLIGHT
TZOFFSETFROM:+0100
TZOFFSETTO:+0200
TZNAME:CEST
DTSTART:20240331T010000
END:DAYLIGHT
BEGIN:STANDARD
TZOFFSETFROM:+0200
TZOFFSETTO:+0100
TZNAME:CET
DTSTART:20241027T010000
END:STANDARD
BEGIN:DAYLIGHT
TZOFFSETFROM:+0100
TZOFFSETTO:+0200
TZNAME:CEST
DTSTART:20250330T010000
END:DAYLIGHT
BEGIN:STANDARD
TZOFFSETFROM:+0200
TZOFFSETTO:+0100
TZNAME:CET
DTSTART:20251026T010000
END:STANDARD
BEGIN:DAYLIGHT
TZOFFSETFROM:+0100
TZOFFSETTO:+0200
TZNAME:CEST
DTSTART:20260329T010000
END:DAYLIGHT
BEGIN:STANDARD
TZOFFSETFROM:+0200
TZOFFSETTO:+0100
TZNAME:CET
DTSTART:20261025T010000
END:STANDARD
BEGIN:DAYLIGHT
TZOFFSETFROM:+0100
TZOFFSETTO:+0200
TZNAME:CEST
DTSTART:20270328T010000
END:DAYLIGHT
BEGIN:STANDARD
TZOFFSETFROM:+0200
TZOFFSETTO:+0100
TZNAME:CET
DTSTART:20271031T010000
END:STANDARD
END:VTIMEZONE
BEGIN:VEVENT
DTSTART;TZID=Europe/Paris:20260228T190000
DTEND;TZID=Europe/Paris:20260228T190000
DTSTAMP:20260425T030252
CREATED:20260226T100514Z
LAST-MODIFIED:20260226T100514Z
UID:10001906-1772305200-1772305200@ccpc51.fr
SUMMARY:Soirée Karaoké
DESCRIPTION:Préparez votre plus belle voix et venez mettre l’ambiance à la Soirée Karaoké des Musicales de Dormans\, le samedi 28 février 2026 à la salle des fêtes de Dormans ! \nAu programme :\n– Des chansons cultes\n– Frites & hot-dogs\n– Musique\, bonne humeur & partage \nSoirée animée par DJ Jérôme et l’animateur Titi pour une ambiance festive garantie !
URL:https://ccpc51.fr/evenement/soiree-karaoke/
LOCATION:Salle des fêtes à DORMANS\, 28 avenue de Paris
CATEGORIES:Soirée à thème
ATTACH;FMTTYPE=image/jpeg:https://ccpc51.fr/wp-content/uploads/2026/02/soiree-karaoke-les-musicales-de-dormans.jpg
END:VEVENT
BEGIN:VEVENT
DTSTART;VALUE=DATE:20260125
DTEND;VALUE=DATE:20260126
DTSTAMP:20260425T030252
CREATED:20251229T152544Z
LAST-MODIFIED:20251229T152544Z
UID:10001579-1769299200-1769385599@ccpc51.fr
SUMMARY:Thé dansant
DESCRIPTION:Le comité des fêtes de Dormans organise un thé dansant le dimanche 25 janvier 2026 à la Salle des Fêtes.
URL:https://ccpc51.fr/evenement/the-dansant-7/
LOCATION:Salle des fêtes à DORMANS\, 28 avenue de Paris
CATEGORIES:Bal,Soirée à thème
ATTACH;FMTTYPE=image/png:https://ccpc51.fr/wp-content/uploads/2025/12/accordeon.png
END:VEVENT
BEGIN:VEVENT
DTSTART;TZID=Europe/Paris:20251109T090000
DTEND;TZID=Europe/Paris:20251109T180000
DTSTAMP:20260425T030252
CREATED:20250416T151946Z
LAST-MODIFIED:20250416T151946Z
UID:10000816-1762678800-1762711200@ccpc51.fr
SUMMARY:Bourse aux jouets à Dormans
DESCRIPTION:Le Dimanche 9 Novembre 2025\, le Comité des Fêtes de Dormans organise sa Bourse aux jouets à la Salle des fêtes.
URL:https://ccpc51.fr/evenement/bourse-aux-jouets-a-dormans/
LOCATION:Salle des fêtes à DORMANS\, 28 avenue de Paris
CATEGORIES:Bourse,Brocante
ATTACH;FMTTYPE=image/jpeg:https://ccpc51.fr/wp-content/uploads/2025/04/toy-g7c329cc59-1920-2.jpg
END:VEVENT
BEGIN:VEVENT
DTSTART;VALUE=DATE:20251018
DTEND;VALUE=DATE:20251020
DTSTAMP:20260425T030252
CREATED:20251015T151139Z
LAST-MODIFIED:20251016T121233Z
UID:10000582-1760745600-1760918399@ccpc51.fr
SUMMARY:Salon Habitat Dormans
DESCRIPTION:Salon de l’Habitat à Dormans — les 18 et 19 octobre 2025\nDormans Coworking vous invite à découvrir le Salon de l’Habitat le samedi 18 et le dimanche 19 octobre 2025\, à la Salle des Fêtes de Dormans. \nAu programme : animations\, conférences et conseils personnalisés tout au long du week-end ! \nVous avez un projet de rénovation\, d’aménagement ou de travaux ? Venez rencontrer nos partenaires : \n\n\nLe Comal Soliha 51 et son Petit Truck \n\n\nLa Maison de l’Habitat. \n\n\nIls seront présents de 10h à 19h pour vous guider et partager leur expertise. \nUn rendez-vous à ne pas manquer pour tous vos projets d’habitat !
URL:https://ccpc51.fr/evenement/salon-de-lhabitat/
LOCATION:Salle des fêtes à DORMANS\, 28 avenue de Paris
CATEGORIES:Foire / Salon
ATTACH;FMTTYPE=image/png:https://ccpc51.fr/wp-content/uploads/2024/09/affiche-salon-de-lhabitat.png
END:VEVENT
BEGIN:VEVENT
DTSTART;VALUE=DATE:20251005
DTEND;VALUE=DATE:20251006
DTSTAMP:20260425T030252
CREATED:20250418T073804Z
LAST-MODIFIED:20250418T073804Z
UID:10000819-1759622400-1759708799@ccpc51.fr
SUMMARY:Thé dansant
DESCRIPTION:Le comité des fêtes de Dormans organise un thé dansant le dimanche 5 octobre 2025 à la Salle des Fêtes. \nL’après-midi sera animée par Fabrice Lefèvre\, accordéoniste pour l’ambiance.
URL:https://ccpc51.fr/evenement/the-dansant-6/
LOCATION:Salle des fêtes à DORMANS\, 28 avenue de Paris
CATEGORIES:Bal,Soirée à thème
ATTACH;FMTTYPE=image/png:https://ccpc51.fr/wp-content/uploads/2025/04/accordeon.png
END:VEVENT
BEGIN:VEVENT
DTSTART;TZID=Europe/Paris:20250516T180000
DTEND;TZID=Europe/Paris:20250516T180000
DTSTAMP:20260425T030252
CREATED:20250424T135028Z
LAST-MODIFIED:20250424T135255Z
UID:10000825-1747418400-1747418400@ccpc51.fr
SUMMARY:LOTO
DESCRIPTION:L’association Familles rurales de Dormans vous donne rendez-vous le vendredi 16 mai 2025 à la salle des fêtes pour gagner l’un des nombreux lots mis en jeu : bon d’achat\, TV\, parc d’attraction\, airfryer\, tablette… \n***Buvette & petite restauration sur place – Ouverture des portes à 18h00*** \n4 € : 1 carton \n20 € : 6 cartons \n30 € : 9 cartons \n3 € : l’enveloppe
URL:https://ccpc51.fr/evenement/loto-7/
LOCATION:Salle des fêtes à DORMANS\, 28 avenue de Paris
CATEGORIES:Jeux-concours / cartes / loto
ATTACH;FMTTYPE=image/jpeg:https://ccpc51.fr/wp-content/uploads/2025/04/loto3.jpg
ORGANIZER;CN="Association Familles Rurales de Dormans":MAILTO:accueil.cscfr@gmail.com
END:VEVENT
BEGIN:VEVENT
DTSTART;TZID=Europe/Paris:20250406T150000
DTEND;TZID=Europe/Paris:20250406T170000
DTSTAMP:20260425T030252
CREATED:20250207T105552Z
LAST-MODIFIED:20250207T105552Z
UID:10000693-1743951600-1743958800@ccpc51.fr
SUMMARY:47ème Concert annuel de Printemps à Dormans
DESCRIPTION:La Musique Municipale de Dormans vous invite à son 47ème concert annuel de printemps à la Salle des Fêtes de Dormans le dimanche 6 avril 2024.
URL:https://ccpc51.fr/evenement/47eme-concert-annuel-de-printemps-a-dormans/
LOCATION:Salle des fêtes à DORMANS\, 28 avenue de Paris
CATEGORIES:Concert
ATTACH;FMTTYPE=image/jpeg:https://ccpc51.fr/wp-content/uploads/2025/02/saxophone-g8f4b1624c-1280.jpg
END:VEVENT
BEGIN:VEVENT
DTSTART;VALUE=DATE:20250322
DTEND;VALUE=DATE:20250323
DTSTAMP:20260425T030252
CREATED:20250207T104810Z
LAST-MODIFIED:20250207T104810Z
UID:10000692-1742601600-1742687999@ccpc51.fr
SUMMARY:Bal du printemps
DESCRIPTION:Pour la 5ème année\, le Secours Populaire organise son bal de printemps avec groupe de musique. \n***Petite restauration sur place***
URL:https://ccpc51.fr/evenement/bal-du-printemps/
LOCATION:Salle des fêtes à DORMANS\, 28 avenue de Paris
CATEGORIES:Bal,Soirée à thème
ATTACH;FMTTYPE=image/jpeg:https://ccpc51.fr/wp-content/uploads/2025/02/bal-de-printemps.jpg
END:VEVENT
BEGIN:VEVENT
DTSTART;TZID=Europe/Paris:20250315T203000
DTEND;TZID=Europe/Paris:20250315T230000
DTSTAMP:20260425T030252
CREATED:20250124T093902Z
LAST-MODIFIED:20250203T153544Z
UID:10000681-1742070600-1742079600@ccpc51.fr
SUMMARY:Théâtre du Lavoir - "Les Caprices d'Eugénie"
DESCRIPTION:La troupe du « Théâtre du Lavoir » de la MJC de Dormans présente une comédie en 2 actes d’Isabelle OHEIX : « Les Caprices d’Eugénie » en 4 représentations. \nSynopsis : au diable les bonnes manières et le politiquement correct\, la septuagénaire Eugénie veut s’amuser ! Et quoi de plus distrayant que de faire tourner en bourrique une fille et un gendre confortablement installés dans leur petit univers bourgeois ?… \n***Billetterie sur place – Ouverture des portes\, 1/2 heure avant le chaque début de chaque séance***
URL:https://ccpc51.fr/evenement/theatre-du-lavoir-les-caprices-deugenie/2025-03-15/
LOCATION:Salle des fêtes à DORMANS\, 28 avenue de Paris
CATEGORIES:Théâtre
ATTACH;FMTTYPE=image/png:https://ccpc51.fr/wp-content/uploads/2025/01/theatre-7.png
ORGANIZER;CN="MJC de Dormans":MAILTO:mjc-dormans@wanadoo.fr
END:VEVENT
BEGIN:VEVENT
DTSTART;TZID=Europe/Paris:20250314T203000
DTEND;TZID=Europe/Paris:20250314T230000
DTSTAMP:20260425T030252
CREATED:20250124T093902Z
LAST-MODIFIED:20250203T153544Z
UID:10000680-1741984200-1741993200@ccpc51.fr
SUMMARY:Théâtre du Lavoir - "Les Caprices d'Eugénie"
DESCRIPTION:La troupe du « Théâtre du Lavoir » de la MJC de Dormans présente une comédie en 2 actes d’Isabelle OHEIX : « Les Caprices d’Eugénie » en 4 représentations. \nSynopsis : au diable les bonnes manières et le politiquement correct\, la septuagénaire Eugénie veut s’amuser ! Et quoi de plus distrayant que de faire tourner en bourrique une fille et un gendre confortablement installés dans leur petit univers bourgeois ?… \n***Billetterie sur place – Ouverture des portes\, 1/2 heure avant le chaque début de chaque séance***
URL:https://ccpc51.fr/evenement/theatre-du-lavoir-les-caprices-deugenie/2025-03-14/
LOCATION:Salle des fêtes à DORMANS\, 28 avenue de Paris
CATEGORIES:Théâtre
ATTACH;FMTTYPE=image/png:https://ccpc51.fr/wp-content/uploads/2025/01/theatre-7.png
ORGANIZER;CN="MJC de Dormans":MAILTO:mjc-dormans@wanadoo.fr
END:VEVENT
BEGIN:VEVENT
DTSTART;TZID=Europe/Paris:20250309T150000
DTEND;TZID=Europe/Paris:20250309T173000
DTSTAMP:20260425T030252
CREATED:20250124T093902Z
LAST-MODIFIED:20250203T153544Z
UID:10000679-1741532400-1741541400@ccpc51.fr
SUMMARY:Théâtre du Lavoir - "Les Caprices d'Eugénie"
DESCRIPTION:La troupe du « Théâtre du Lavoir » de la MJC de Dormans présente une comédie en 2 actes d’Isabelle OHEIX : « Les Caprices d’Eugénie » en 4 représentations. \nSynopsis : au diable les bonnes manières et le politiquement correct\, la septuagénaire Eugénie veut s’amuser ! Et quoi de plus distrayant que de faire tourner en bourrique une fille et un gendre confortablement installés dans leur petit univers bourgeois ?… \n***Billetterie sur place – Ouverture des portes\, 1/2 heure avant le chaque début de chaque séance***
URL:https://ccpc51.fr/evenement/theatre-du-lavoir-les-caprices-deugenie/2025-03-09/
LOCATION:Salle des fêtes à DORMANS\, 28 avenue de Paris
CATEGORIES:Théâtre
ATTACH;FMTTYPE=image/png:https://ccpc51.fr/wp-content/uploads/2025/01/theatre-7.png
ORGANIZER;CN="MJC de Dormans":MAILTO:mjc-dormans@wanadoo.fr
END:VEVENT
BEGIN:VEVENT
DTSTART;TZID=Europe/Paris:20250308T203000
DTEND;TZID=Europe/Paris:20250308T230000
DTSTAMP:20260425T030252
CREATED:20250124T093902Z
LAST-MODIFIED:20250203T153544Z
UID:10000664-1741465800-1741474800@ccpc51.fr
SUMMARY:Théâtre du Lavoir - "Les Caprices d'Eugénie"
DESCRIPTION:La troupe du « Théâtre du Lavoir » de la MJC de Dormans présente une comédie en 2 actes d’Isabelle OHEIX : « Les Caprices d’Eugénie » en 4 représentations. \nSynopsis : au diable les bonnes manières et le politiquement correct\, la septuagénaire Eugénie veut s’amuser ! Et quoi de plus distrayant que de faire tourner en bourrique une fille et un gendre confortablement installés dans leur petit univers bourgeois ?… \n***Billetterie sur place – Ouverture des portes\, 1/2 heure avant le chaque début de chaque séance***
URL:https://ccpc51.fr/evenement/theatre-du-lavoir-les-caprices-deugenie/2025-03-08/
LOCATION:Salle des fêtes à DORMANS\, 28 avenue de Paris
CATEGORIES:Théâtre
ATTACH;FMTTYPE=image/png:https://ccpc51.fr/wp-content/uploads/2025/01/theatre-7.png
ORGANIZER;CN="MJC de Dormans":MAILTO:mjc-dormans@wanadoo.fr
END:VEVENT
BEGIN:VEVENT
DTSTART;VALUE=DATE:20250227
DTEND;VALUE=DATE:20250228
DTSTAMP:20260425T030252
CREATED:20250206T162927Z
LAST-MODIFIED:20250206T163351Z
UID:10000688-1740614400-1740700799@ccpc51.fr
SUMMARY:Salon de l'Emploi & de la Formation
DESCRIPTION:La Mission Locale des Pays d’Epernay organise en partenariat avec France Travail\, le salon de l’emploi et de la formation à Dormans le jeudi 27 février 2025 à la salle des fêtes. \nLa journée se passera en deux temps :\n– Le matin de 9h30 à 12h\, les entreprises pourront présenter leur métiers aux collégiens\n– L’après-midi de 13h30 à 16h sera consacré aux demandeurs d’emploi sous forme de Job dating
URL:https://ccpc51.fr/evenement/salon-de-lemploi-de-la-formation/
LOCATION:Salle des fêtes à DORMANS\, 28 avenue de Paris
CATEGORIES:Foire / Salon
ATTACH;FMTTYPE=image/jpeg:https://ccpc51.fr/wp-content/uploads/2025/02/capture-d-ecran-2024-02-05-143846.jpg
END:VEVENT
BEGIN:VEVENT
DTSTART;TZID=Europe/Paris:20250215T210000
DTEND;TZID=Europe/Paris:20250216T000000
DTSTAMP:20260425T030252
CREATED:20250203T105617Z
LAST-MODIFIED:20250203T105617Z
UID:10000677-1739653200-1739664000@ccpc51.fr
SUMMARY:Soirée années 80
DESCRIPTION:Les Musicales de Dormans vous donne rendez-vous le samedi 15 février 2025 à l’occasion de leur soirée années 80\, animée par DJ et animateur\, Jérôme et Titi.
URL:https://ccpc51.fr/evenement/soiree-annees-80-2/
LOCATION:Salle des fêtes à DORMANS\, 28 avenue de Paris
ATTACH;FMTTYPE=image/jpeg:https://ccpc51.fr/wp-content/uploads/2025/02/soiree-annees-80-les-musicales-de-dormans.jpg
END:VEVENT
BEGIN:VEVENT
DTSTART;VALUE=DATE:20250205
DTEND;VALUE=DATE:20250206
DTSTAMP:20260425T030252
CREATED:20250203T163347Z
LAST-MODIFIED:20250203T163347Z
UID:10000686-1738713600-1738799999@ccpc51.fr
SUMMARY:Planétarium itinérant
DESCRIPTION:Le planétarium a fait l’acquisition en 2024 d’un planétarium itinérant numérique. Cet outil immersif aux capacités didactiques\, proprement incroyables permet de faire voyager le public de la surface de la Terre aux confins de l’univers en un clin d’œil ! \nIl vous invite à venir vivre cette nouvelle expérience\, le mercredi 5 février 2025 à la salle des fêtes de Dormans. \nLe nombre de places étant limité\, n’oubliez pas de vous inscrire !
URL:https://ccpc51.fr/evenement/planetarium-itinerant/
LOCATION:Salle des fêtes à DORMANS\, 28 avenue de Paris
CATEGORIES:Ateliers évènementiels / Conférence,Meeting
ATTACH;FMTTYPE=image/jpeg:https://ccpc51.fr/wp-content/uploads/2025/02/atelier-planetarium-maison-du-parc.jpg
ORGANIZER;CN="Plan%C3%A9tarium":MAILTO:mjc-dormans@wanadoo.fr
END:VEVENT
BEGIN:VEVENT
DTSTART;TZID=Europe/Paris:20250126T143000
DTEND;TZID=Europe/Paris:20250126T180000
DTSTAMP:20260425T030252
CREATED:20250124T104427Z
LAST-MODIFIED:20250124T104427Z
UID:10000666-1737901800-1737914400@ccpc51.fr
SUMMARY:Thé dansant
DESCRIPTION:Le comité des fêtes de Dormans organise un thé dansant le dimanche 26 janvier 2025 à la Salle des Fêtes. \nL’après-midi sera animée par Damien Bérézenski\, accordéoniste pour l’ambiance.
URL:https://ccpc51.fr/evenement/the-dansant-4/
LOCATION:Salle des fêtes à DORMANS\, 28 avenue de Paris
CATEGORIES:Bal,Soirée à thème
ATTACH;FMTTYPE=image/jpeg:https://ccpc51.fr/wp-content/uploads/2025/01/danse-de-salon-2.jpg
END:VEVENT
BEGIN:VEVENT
DTSTART;TZID=Europe/Paris:20241221T190000
DTEND;TZID=Europe/Paris:20241221T230000
DTSTAMP:20260425T030252
CREATED:20241030T145552Z
LAST-MODIFIED:20241030T145552Z
UID:10000631-1734807600-1734822000@ccpc51.fr
SUMMARY:Soirée Festive - Kustom Phoenix
DESCRIPTION:3ème édition du repas festif des Kustom Phoenix\, avec animation et concert tous au long de la soirée. \nTarifs : soirée dansante sans repas – 5 € / soirée dansante + repas – enfant 13 € / adulte 25 €
URL:https://ccpc51.fr/evenement/soiree-festive-kustom-phoenix/
LOCATION:Salle des fêtes à DORMANS\, 28 avenue de Paris
CATEGORIES:Soirée à thème
ATTACH;FMTTYPE=image/png:https://ccpc51.fr/wp-content/uploads/2024/10/soiree-festive-kustom-phoenix-2.png
END:VEVENT
BEGIN:VEVENT
DTSTART;TZID=Europe/Paris:20241210T113000
DTEND;TZID=Europe/Paris:20241210T180000
DTSTAMP:20260425T030252
CREATED:20241030T143423Z
LAST-MODIFIED:20241030T143423Z
UID:10000628-1733830200-1733853600@ccpc51.fr
SUMMARY:Repas Animé
DESCRIPTION:Le Centre Socio-culturel – Familles rurales de Dormans organise un repas animé\, le mardi 10 décembre 2024 à la salle des fêtes de la commune. \nAu menu : apéritif (toast + sangria)\, tartiflette + salade\, bûches pâtissières\, boissons (vin\, eau\, jus de fruit)\nPrésence d’un accordéoniste et d’une chanteuse pour l’animation \nTarifs : 32 € pour les adhérents / 38 € pour les non-adhérents
URL:https://ccpc51.fr/evenement/repas-anime/
LOCATION:Salle des fêtes à DORMANS\, 28 avenue de Paris
CATEGORIES:Spectacle
ATTACH;FMTTYPE=image/jpeg:https://ccpc51.fr/wp-content/uploads/2024/10/repas-anime-dormans.jpg
ORGANIZER;CN="Association Familles Rurales de Dormans":MAILTO:accueil.cscfr@gmail.com
END:VEVENT
BEGIN:VEVENT
DTSTART;TZID=Europe/Paris:20241119T183000
DTEND;TZID=Europe/Paris:20241119T230000
DTSTAMP:20260425T030252
CREATED:20241024T101621Z
LAST-MODIFIED:20241024T101621Z
UID:10000620-1732041000-1732057200@ccpc51.fr
SUMMARY:"Un jour en famille" - théâtre et humour
DESCRIPTION:La Compagnie Acaly – Café-théâtre Saint-Médard de Soissons vous invite à un moment d’humour et de théâtre\, le mardi 19 novembre 2024\, à la salle des fêtes de Dormans\, sur le thème « Un jour en famille ». \nDe nombreuses thématiques y seront abordées comme la place du père ou de la mère\, les sujets tabous\, la famille recomposée\, les tâches ménagères\, l’intimité… Et bien d’autres !
URL:https://ccpc51.fr/evenement/un-jour-en-famille-theatre-et-humour/
LOCATION:Salle des fêtes à DORMANS\, 28 avenue de Paris
CATEGORIES:Théâtre
ATTACH;FMTTYPE=image/jpeg:https://ccpc51.fr/wp-content/uploads/2024/10/theatre-dormans-3.jpg
END:VEVENT
BEGIN:VEVENT
DTSTART;TZID=Europe/Paris:20241110T090000
DTEND;TZID=Europe/Paris:20241110T180000
DTSTAMP:20260425T030252
CREATED:20241023T154450Z
LAST-MODIFIED:20241023T154450Z
UID:10000605-1731229200-1731261600@ccpc51.fr
SUMMARY:Bourse aux jouets
DESCRIPTION:Le Dimanche 10 Novembre 2024\, le Comité des Fêtes de Dormans organise sa Bourse aux jouets à la Salle des fêtes.
URL:https://ccpc51.fr/evenement/bourse-aux-jouets/
LOCATION:Salle des fêtes à DORMANS\, 28 avenue de Paris
CATEGORIES:Bourse,Brocante
ATTACH;FMTTYPE=image/jpeg:https://ccpc51.fr/wp-content/uploads/2024/10/toy-g7c329cc59-1920-2.jpg
END:VEVENT
BEGIN:VEVENT
DTSTART;TZID=Europe/Paris:20241102T150000
DTEND;TZID=Europe/Paris:20241102T233000
DTSTAMP:20260425T030252
CREATED:20241023T152054Z
LAST-MODIFIED:20241023T152436Z
UID:10000602-1730559600-1730590200@ccpc51.fr
SUMMARY:Journée Halloween
DESCRIPTION:Les Musicales de Dormans vous invitent à venir célébrer Halloween\, le samedi 2 novembre 2024 à la salle des fêtes de Dormans. \nAu programme de la journée :\n– animations pour enfants (sur réservation uniquement) de 15h00 à 18h00.\n– soirée musicale avec élection des 3 plus beaux déguisements à partir de 20h00 – buvette & restauration sur place. \nTarifs : enfant 5 € (goûter offert) / adulte 12 € (une consommation offerte pour toute personne déguisée)
URL:https://ccpc51.fr/evenement/journee-halloween/
LOCATION:Salle des fêtes à DORMANS\, 28 avenue de Paris
CATEGORIES:Soirée à thème
ATTACH;FMTTYPE=image/jpeg:https://ccpc51.fr/wp-content/uploads/2024/10/soiree-halloween-les-musicales-de-dormans.jpg
END:VEVENT
END:VCALENDAR