BEGIN:VCALENDAR
VERSION:2.0
PRODID:-//Communauté de Communes des Paysages de la Champagne - ECPv6.15.17//NONSGML v1.0//EN
CALSCALE:GREGORIAN
METHOD:PUBLISH
X-WR-CALNAME:Communauté de Communes des Paysages de la Champagne
X-ORIGINAL-URL:https://ccpc51.fr
X-WR-CALDESC:Évènements pour Communauté de Communes des Paysages de la Champagne
REFRESH-INTERVAL;VALUE=DURATION:PT1H
X-Robots-Tag:noindex
X-PUBLISHED-TTL:PT1H
BEGIN:VTIMEZONE
TZID:Europe/Paris
BEGIN:DAYLIGHT
TZOFFSETFROM:+0100
TZOFFSETTO:+0200
TZNAME:CEST
DTSTART:20230326T010000
END:DAYLIGHT
BEGIN:STANDARD
TZOFFSETFROM:+0200
TZOFFSETTO:+0100
TZNAME:CET
DTSTART:20231029T010000
END:STANDARD
BEGIN:DAYLIGHT
TZOFFSETFROM:+0100
TZOFFSETTO:+0200
TZNAME:CEST
DTSTART:20240331T010000
END:DAYLIGHT
BEGIN:STANDARD
TZOFFSETFROM:+0200
TZOFFSETTO:+0100
TZNAME:CET
DTSTART:20241027T010000
END:STANDARD
BEGIN:DAYLIGHT
TZOFFSETFROM:+0100
TZOFFSETTO:+0200
TZNAME:CEST
DTSTART:20250330T010000
END:DAYLIGHT
BEGIN:STANDARD
TZOFFSETFROM:+0200
TZOFFSETTO:+0100
TZNAME:CET
DTSTART:20251026T010000
END:STANDARD
END:VTIMEZONE
BEGIN:VEVENT
DTSTART;TZID=Europe/Paris:20241116T193000
DTEND;TZID=Europe/Paris:20241116T233000
DTSTAMP:20260419T141613
CREATED:20241121T124946Z
LAST-MODIFIED:20241121T125352Z
UID:10000638-1731785400-1731799800@ccpc51.fr
SUMMARY:Loto
DESCRIPTION:Le comité des fêtes d’Igny-Comblizy organise son loto\, le samedi 16 novembre 2024\, à la salle des fêtes du village. \nDe nombreux lots sont à gagner : bons d’achat\, micro-ondes\, coffret wonderbox\, TV… \n– Ouverture des portes à 18h00 – \nTarifs : 4 € le carton / 20 € les 6 cartons / 30 € les 9 cartons
URL:https://ccpc51.fr/evenement/loto-4/
LOCATION:Salle des fêtes à IGNY-COMBLIZY
CATEGORIES:Jeux-concours / cartes / loto
ATTACH;FMTTYPE=image/png:https://ccpc51.fr/wp-content/uploads/2024/11/loto.png
ORGANIZER;CN="Comit%C3%A9 des f%C3%AAtes d'Igny-Comblizy":MAILTO:cdf.igny51700@outlook.fr
END:VEVENT
BEGIN:VEVENT
DTSTART;TZID=Europe/Paris:20241020T090000
DTEND;TZID=Europe/Paris:20241020T180000
DTSTAMP:20260419T141613
CREATED:20241008T152452Z
LAST-MODIFIED:20241008T152452Z
UID:10000590-1729414800-1729447200@ccpc51.fr
SUMMARY:Baby-Broc - 1ère édition
DESCRIPTION:Le Comité des Fêtes d’Igny-Comblizy organise la 1ère édition de sa Baby-Broc\, le dimanche 20 octobre 2024.
URL:https://ccpc51.fr/evenement/baby-broc-1ere-edition/
LOCATION:Salle des fêtes à IGNY-COMBLIZY
ATTACH;FMTTYPE=image/jpeg:https://ccpc51.fr/wp-content/uploads/2024/10/baby-broc-igny-comblizy.jpg
ORGANIZER;CN="Comit%C3%A9 des f%C3%AAtes d'Igny-Comblizy":MAILTO:cdf.igny51700@outlook.fr
END:VEVENT
END:VCALENDAR