BEGIN:VCALENDAR
VERSION:2.0
PRODID:-//Communauté de Communes des Paysages de la Champagne - ECPv6.15.17//NONSGML v1.0//EN
CALSCALE:GREGORIAN
METHOD:PUBLISH
X-ORIGINAL-URL:https://ccpc51.fr
X-WR-CALDESC:Évènements pour Communauté de Communes des Paysages de la Champagne
REFRESH-INTERVAL;VALUE=DURATION:PT1H
X-Robots-Tag:noindex
X-PUBLISHED-TTL:PT1H
BEGIN:VTIMEZONE
TZID:Europe/Paris
BEGIN:DAYLIGHT
TZOFFSETFROM:+0100
TZOFFSETTO:+0200
TZNAME:CEST
DTSTART:20240331T010000
END:DAYLIGHT
BEGIN:STANDARD
TZOFFSETFROM:+0200
TZOFFSETTO:+0100
TZNAME:CET
DTSTART:20241027T010000
END:STANDARD
BEGIN:DAYLIGHT
TZOFFSETFROM:+0100
TZOFFSETTO:+0200
TZNAME:CEST
DTSTART:20250330T010000
END:DAYLIGHT
BEGIN:STANDARD
TZOFFSETFROM:+0200
TZOFFSETTO:+0100
TZNAME:CET
DTSTART:20251026T010000
END:STANDARD
BEGIN:DAYLIGHT
TZOFFSETFROM:+0100
TZOFFSETTO:+0200
TZNAME:CEST
DTSTART:20260329T010000
END:DAYLIGHT
BEGIN:STANDARD
TZOFFSETFROM:+0200
TZOFFSETTO:+0100
TZNAME:CET
DTSTART:20261025T010000
END:STANDARD
END:VTIMEZONE
BEGIN:VEVENT
DTSTART;TZID=Europe/Paris:20251113T180000
DTEND;TZID=Europe/Paris:20251113T200000
DTSTAMP:20260419T142928
CREATED:20251022T143105Z
LAST-MODIFIED:20251022T143220Z
UID:10001488-1763056800-1763064000@ccpc51.fr
SUMMARY:Ateliers compostage
DESCRIPTION:Cet automne\, la Communauté de Communes des Paysages de la Champagne vous propose 4 ateliers d’initiation au compostage :\n– le jeudi 2 octobre à la salle des fêtes de Mareuil-le-Port\n– le jeudi 9 octobre à la salle des fêtes d’Etoges\n– le jeudi 6 novembre à la salle des fêtes de Saint-Martin-d’Ablois\n– le jeudi 13 novembre à la salle des fêtes de Passy-Grigny \n***Pas de pré-inscription / gratuit et dispensé par un professionnel***
URL:https://ccpc51.fr/evenement/ateliers-compostage/2025-11-13/
LOCATION:Salle des fêtes de Saint Martin d’Ablois
CATEGORIES:Ateliers évènementiels / Conférence
ATTACH;FMTTYPE=image/png:https://ccpc51.fr/wp-content/uploads/2025/10/affiche-ateliers-compostage-octobre-novembre-vf.png
ORGANIZER;CN="COMMUNAUT%C3%89 DE COMMUNES DES PAYSAGES DE LA CHAMPAGNE":MAILTO:accueil@ccpc51.fr
END:VEVENT
BEGIN:VEVENT
DTSTART;TZID=Europe/Paris:20251106T180000
DTEND;TZID=Europe/Paris:20251106T200000
DTSTAMP:20260419T142928
CREATED:20251022T143105Z
LAST-MODIFIED:20251022T143220Z
UID:10001487-1762452000-1762459200@ccpc51.fr
SUMMARY:Ateliers compostage
DESCRIPTION:Cet automne\, la Communauté de Communes des Paysages de la Champagne vous propose 4 ateliers d’initiation au compostage :\n– le jeudi 2 octobre à la salle des fêtes de Mareuil-le-Port\n– le jeudi 9 octobre à la salle des fêtes d’Etoges\n– le jeudi 6 novembre à la salle des fêtes de Saint-Martin-d’Ablois\n– le jeudi 13 novembre à la salle des fêtes de Passy-Grigny \n***Pas de pré-inscription / gratuit et dispensé par un professionnel***
URL:https://ccpc51.fr/evenement/ateliers-compostage/2025-11-06/
LOCATION:Salle des fêtes de Saint Martin d’Ablois
CATEGORIES:Ateliers évènementiels / Conférence
ATTACH;FMTTYPE=image/png:https://ccpc51.fr/wp-content/uploads/2025/10/affiche-ateliers-compostage-octobre-novembre-vf.png
ORGANIZER;CN="COMMUNAUT%C3%89 DE COMMUNES DES PAYSAGES DE LA CHAMPAGNE":MAILTO:accueil@ccpc51.fr
END:VEVENT
END:VCALENDAR