BEGIN:VCALENDAR
VERSION:2.0
PRODID:-//Communauté de Communes des Paysages de la Champagne - ECPv6.15.17//NONSGML v1.0//EN
CALSCALE:GREGORIAN
METHOD:PUBLISH
X-ORIGINAL-URL:https://ccpc51.fr
X-WR-CALDESC:Évènements pour Communauté de Communes des Paysages de la Champagne
REFRESH-INTERVAL;VALUE=DURATION:PT1H
X-Robots-Tag:noindex
X-PUBLISHED-TTL:PT1H
BEGIN:VTIMEZONE
TZID:Europe/Paris
BEGIN:DAYLIGHT
TZOFFSETFROM:+0100
TZOFFSETTO:+0200
TZNAME:CEST
DTSTART:20230326T010000
END:DAYLIGHT
BEGIN:STANDARD
TZOFFSETFROM:+0200
TZOFFSETTO:+0100
TZNAME:CET
DTSTART:20231029T010000
END:STANDARD
BEGIN:DAYLIGHT
TZOFFSETFROM:+0100
TZOFFSETTO:+0200
TZNAME:CEST
DTSTART:20240331T010000
END:DAYLIGHT
BEGIN:STANDARD
TZOFFSETFROM:+0200
TZOFFSETTO:+0100
TZNAME:CET
DTSTART:20241027T010000
END:STANDARD
BEGIN:DAYLIGHT
TZOFFSETFROM:+0100
TZOFFSETTO:+0200
TZNAME:CEST
DTSTART:20250330T010000
END:DAYLIGHT
BEGIN:STANDARD
TZOFFSETFROM:+0200
TZOFFSETTO:+0100
TZNAME:CET
DTSTART:20251026T010000
END:STANDARD
END:VTIMEZONE
BEGIN:VEVENT
DTSTART;TZID=Europe/Paris:20241117T090000
DTEND;TZID=Europe/Paris:20241117T180000
DTSTAMP:20260419T204516
CREATED:20241121T103336Z
LAST-MODIFIED:20241121T105323Z
UID:10000632-1731834000-1731866400@ccpc51.fr
SUMMARY:Marché de Noël
DESCRIPTION:L’Association des Enfants de Villevenard organise son marché de Noël\, le dimanche 17 Novembre 2024 de 9h00 à 18h00\, dans la salle du Pressoir. \nVenez vous plonger dans l’ambiance féerique et chaleureuse des fêtes de fin d’année. C’est l’occasion pour chacun de trouver le cadeau idéal à offrir pour Noël !!! \nBuvette & Restauration sur place.
URL:https://ccpc51.fr/evenement/marche-de-noel-2/
LOCATION:Salle du Pressoir à VILLEVENARD\, rue Vigne L'abbesse
CATEGORIES:Marché de Noël
ATTACH;FMTTYPE=image/jpeg:https://ccpc51.fr/wp-content/uploads/2024/11/capture-d-ecran-2024-10-30-102924-2.jpg
END:VEVENT
END:VCALENDAR