BEGIN:VCALENDAR
VERSION:2.0
PRODID:-//Communauté de Communes des Paysages de la Champagne - ECPv6.15.17//NONSGML v1.0//EN
CALSCALE:GREGORIAN
METHOD:PUBLISH
X-ORIGINAL-URL:https://ccpc51.fr
X-WR-CALDESC:Évènements pour Communauté de Communes des Paysages de la Champagne
REFRESH-INTERVAL;VALUE=DURATION:PT1H
X-Robots-Tag:noindex
X-PUBLISHED-TTL:PT1H
BEGIN:VTIMEZONE
TZID:Europe/Paris
BEGIN:DAYLIGHT
TZOFFSETFROM:+0100
TZOFFSETTO:+0200
TZNAME:CEST
DTSTART:20230326T010000
END:DAYLIGHT
BEGIN:STANDARD
TZOFFSETFROM:+0200
TZOFFSETTO:+0100
TZNAME:CET
DTSTART:20231029T010000
END:STANDARD
BEGIN:DAYLIGHT
TZOFFSETFROM:+0100
TZOFFSETTO:+0200
TZNAME:CEST
DTSTART:20240331T010000
END:DAYLIGHT
BEGIN:STANDARD
TZOFFSETFROM:+0200
TZOFFSETTO:+0100
TZNAME:CET
DTSTART:20241027T010000
END:STANDARD
BEGIN:DAYLIGHT
TZOFFSETFROM:+0100
TZOFFSETTO:+0200
TZNAME:CEST
DTSTART:20250330T010000
END:DAYLIGHT
BEGIN:STANDARD
TZOFFSETFROM:+0200
TZOFFSETTO:+0100
TZNAME:CET
DTSTART:20251026T010000
END:STANDARD
BEGIN:DAYLIGHT
TZOFFSETFROM:+0100
TZOFFSETTO:+0200
TZNAME:CEST
DTSTART:20260329T010000
END:DAYLIGHT
BEGIN:STANDARD
TZOFFSETFROM:+0200
TZOFFSETTO:+0100
TZNAME:CET
DTSTART:20261025T010000
END:STANDARD
END:VTIMEZONE
BEGIN:VEVENT
DTSTART;VALUE=DATE:20250719
DTEND;VALUE=DATE:20250720
DTSTAMP:20260425T003322
CREATED:20250522T083836Z
LAST-MODIFIED:20250709T144951Z
UID:10000867-1752883200-1752969599@ccpc51.fr
SUMMARY:Soirée Champêtre & Cinéma en plein-air
DESCRIPTION:L’Association « La Vallée du Surmelin » vous invite à une soirée champêtre\, le samedi 19 juillet 2025\, à l’occasion d’une séance de ciméma en plein-air. \nRepas champêtre et Cinéma en plein air : 20€/adulte\, 10€/enfant (- 12 ans)\nassiette apéritive\, salades composées\, grillades\, dessert \nFormule ciné-dessert à partir de 21h30 : 8€ \nFilm familial « Un p’tit truc en plus »\nUn père\, un fils\, un refuge improbable… et des rencontres qui changent tout.\nPensez à apporter plaids et sièges pour votre confort. \nDate limite de réservation : 16 juillet 2025\nRéservation en ligne sur helloasso.com ou par téléphone au 06 42 88 87 42 \nLieu pouvant être modifié en fonction des conditions météorologiques
URL:https://ccpc51.fr/evenement/soiree-champetre-cinema-en-plein-air/
LOCATION:Centre du village – ORBAIS L’ABBAYE\, rue de la croix rouge\, ORBAIS L'ABBAYE
CATEGORIES:Soirée à thème
ATTACH;FMTTYPE=image/png:https://ccpc51.fr/wp-content/uploads/2025/05/cinema-de-plein-air-2.png
END:VEVENT
BEGIN:VEVENT
DTSTART;TZID=Europe/Paris:20240929T090000
DTEND;TZID=Europe/Paris:20240929T170000
DTSTAMP:20260425T003322
CREATED:20240814T135423Z
LAST-MODIFIED:20240814T135423Z
UID:10000555-1727600400-1727629200@ccpc51.fr
SUMMARY:Les Virades de l'Espoir - MONTMORT-LUCY
DESCRIPTION:Depuis plus de 30 ans\, les Virades de l’Espoir sont organisées au profit de la lutte contre la mucoviscidose. \nLe dimanche 29 septembre 2024\, participez à cet évènement solidaire organisé au cœur des Paysages de la Champagne à Montmort-Lucy \nVenez découvrir la Vallée du Surmelin dans le sud-ouest Marnais et ses paysages entre forêts\, vignes\, culture\, prairie et sa rivière le Surmelin qui a creusé son lit dans le plateau Briard. \nAu programme de la journée :\n– 3 parcours pédestres proposés : 5\, 10 et 15 km\n– 1 parcours VTT de 30 km\n– Buvette & Petite Restauration\n– Animations \nDéparts de 9h00 à 12h00 pour les parcours pédestres\nDéparts avant 11h30 pour le parcours pédestre 15 km et pour le parcours VTT 30 km
URL:https://ccpc51.fr/evenement/les-virades-de-lespoir-montmort-lucy/
LOCATION:Commune de Montmort-Lucy\, France
CATEGORIES:Evènement caritatif / social,Randonnée
ATTACH;FMTTYPE=image/jpeg:https://ccpc51.fr/wp-content/uploads/2024/08/les-virades-de-l-espoir-le-breuil.jpg
END:VEVENT
BEGIN:VEVENT
DTSTART;TZID=Europe/Paris:20240623T093000
DTEND;TZID=Europe/Paris:20240623T170000
DTSTAMP:20260425T003322
CREATED:20240606T093248Z
LAST-MODIFIED:20240606T093248Z
UID:10000524-1719135000-1719162000@ccpc51.fr
SUMMARY:Les Balades du Surmelin - Le Breuil
DESCRIPTION:L’Association « Vallée du Surmelin vous invite à découvrir son territoire et son patrimoine\, le dimanche 23 juin 2024 au départ de Le Breuil. \nAu programme de cette journée « Patrimoine de Pays » à la découverte des moulins\, une balade de 8 km :\n– 9h30 – départ de la Place Bastidon à Le Breuil\n– 11h00 – halte Place Jean d’Orbais à Orbais-L’Abbaye\n– 12h00 – Pique-nique sorti du sac autour d’une buvette (boissons chaudes ou fraîches & pâtisseries)
URL:https://ccpc51.fr/evenement/les-balades-du-surmelin-le-breuil/
LOCATION:Place Bastidon\, LE BREUIL
CATEGORIES:Randonnée
ATTACH;FMTTYPE=image/jpeg:https://ccpc51.fr/wp-content/uploads/2024/06/balades-vallee-du-surmelin.jpg
END:VEVENT
END:VCALENDAR