BEGIN:VCALENDAR
VERSION:2.0
PRODID:-//Communauté de Communes des Paysages de la Champagne - ECPv6.15.17//NONSGML v1.0//EN
CALSCALE:GREGORIAN
METHOD:PUBLISH
X-ORIGINAL-URL:https://ccpc51.fr
X-WR-CALDESC:Évènements pour Communauté de Communes des Paysages de la Champagne
REFRESH-INTERVAL;VALUE=DURATION:PT1H
X-Robots-Tag:noindex
X-PUBLISHED-TTL:PT1H
BEGIN:VTIMEZONE
TZID:Europe/Paris
BEGIN:DAYLIGHT
TZOFFSETFROM:+0100
TZOFFSETTO:+0200
TZNAME:CEST
DTSTART:20240331T010000
END:DAYLIGHT
BEGIN:STANDARD
TZOFFSETFROM:+0200
TZOFFSETTO:+0100
TZNAME:CET
DTSTART:20241027T010000
END:STANDARD
BEGIN:DAYLIGHT
TZOFFSETFROM:+0100
TZOFFSETTO:+0200
TZNAME:CEST
DTSTART:20250330T010000
END:DAYLIGHT
BEGIN:STANDARD
TZOFFSETFROM:+0200
TZOFFSETTO:+0100
TZNAME:CET
DTSTART:20251026T010000
END:STANDARD
BEGIN:DAYLIGHT
TZOFFSETFROM:+0100
TZOFFSETTO:+0200
TZNAME:CEST
DTSTART:20260329T010000
END:DAYLIGHT
BEGIN:STANDARD
TZOFFSETFROM:+0200
TZOFFSETTO:+0100
TZNAME:CET
DTSTART:20261025T010000
END:STANDARD
END:VTIMEZONE
BEGIN:VEVENT
DTSTART;TZID=Europe/Paris:20251004T100000
DTEND;TZID=Europe/Paris:20251004T170000
DTSTAMP:20260425T033600
CREATED:20250528T125600Z
LAST-MODIFIED:20250528T125600Z
UID:10000878-1759572000-1759597200@ccpc51.fr
SUMMARY:Un Vigneron\, Une Histoire - Champagne Rédempteur
DESCRIPTION:Découvrez l’univers du Champagne Rédempteur lors d’une visite de ses caves et d’un atelier senteurs\, avant de déguster des cuvées authentiques.\n\nDéparts : 10h – 11h – 14h – 16h
URL:https://ccpc51.fr/evenement/un-vigneron-une-histoire-champagne-redempteur-2/2025-10-04/
LOCATION:CHAMPAGNE REDEMPTEUR\, 30 route d'Arty\, VENTEUIL\, 51480
CATEGORIES:Animation viti-vinicole / Portes ouvertes
ATTACH;FMTTYPE=image/png:https://ccpc51.fr/wp-content/uploads/2025/04/image-3.png
ORGANIZER;CN="Champagne R%C3%A9dempteur":MAILTO:contact@redempteur.com
END:VEVENT
BEGIN:VEVENT
DTSTART;TZID=Europe/Paris:20250705T100000
DTEND;TZID=Europe/Paris:20250705T170000
DTSTAMP:20260425T033600
CREATED:20250528T125600Z
LAST-MODIFIED:20250528T125600Z
UID:10000877-1751709600-1751734800@ccpc51.fr
SUMMARY:Un Vigneron\, Une Histoire - Champagne Rédempteur
DESCRIPTION:Découvrez l’univers du Champagne Rédempteur lors d’une visite de ses caves et d’un atelier senteurs\, avant de déguster des cuvées authentiques.\n\nDéparts : 10h – 11h – 14h – 16h
URL:https://ccpc51.fr/evenement/un-vigneron-une-histoire-champagne-redempteur-2/2025-07-05/
LOCATION:CHAMPAGNE REDEMPTEUR\, 30 route d'Arty\, VENTEUIL\, 51480
CATEGORIES:Animation viti-vinicole / Portes ouvertes
ATTACH;FMTTYPE=image/png:https://ccpc51.fr/wp-content/uploads/2025/04/image-3.png
ORGANIZER;CN="Champagne R%C3%A9dempteur":MAILTO:contact@redempteur.com
END:VEVENT
BEGIN:VEVENT
DTSTART;VALUE=DATE:20250517
DTEND;VALUE=DATE:20250518
DTSTAMP:20260425T033600
CREATED:20250424T150236Z
LAST-MODIFIED:20250424T150236Z
UID:10000833-1747440000-1747526399@ccpc51.fr
SUMMARY:Un Vigneron\, Une Histoire - Champagne Rédempteur
DESCRIPTION:Découvrez l’univers du Champagne Rédempteur lors d’une visite de ses caves et d’un atelier senteurs\, avant de déguster des cuvées authentiques. \nDéparts : 10h – 11h – 14h – 16h
URL:https://ccpc51.fr/evenement/un-vigneron-une-histoire-champagne-redempteur/
LOCATION:Champagne du Rédempteur\, 30 Route d'Arty\, VENTEUIL\, 51480
CATEGORIES:Animation viti-vinicole / Portes ouvertes
ATTACH;FMTTYPE=image/png:https://ccpc51.fr/wp-content/uploads/2025/04/image-3.png
ORGANIZER;CN="Champagne R%C3%A9dempteur":MAILTO:contact@redempteur.com
END:VEVENT
END:VCALENDAR