BEGIN:VCALENDAR
VERSION:2.0
PRODID:-//Communauté de Communes des Paysages de la Champagne - ECPv6.15.17//NONSGML v1.0//EN
CALSCALE:GREGORIAN
METHOD:PUBLISH
X-WR-CALNAME:Communauté de Communes des Paysages de la Champagne
X-ORIGINAL-URL:https://ccpc51.fr
X-WR-CALDESC:Évènements pour Communauté de Communes des Paysages de la Champagne
REFRESH-INTERVAL;VALUE=DURATION:PT1H
X-Robots-Tag:noindex
X-PUBLISHED-TTL:PT1H
BEGIN:VTIMEZONE
TZID:Europe/Paris
BEGIN:DAYLIGHT
TZOFFSETFROM:+0100
TZOFFSETTO:+0200
TZNAME:CEST
DTSTART:20230326T010000
END:DAYLIGHT
BEGIN:STANDARD
TZOFFSETFROM:+0200
TZOFFSETTO:+0100
TZNAME:CET
DTSTART:20231029T010000
END:STANDARD
BEGIN:DAYLIGHT
TZOFFSETFROM:+0100
TZOFFSETTO:+0200
TZNAME:CEST
DTSTART:20240331T010000
END:DAYLIGHT
BEGIN:STANDARD
TZOFFSETFROM:+0200
TZOFFSETTO:+0100
TZNAME:CET
DTSTART:20241027T010000
END:STANDARD
BEGIN:DAYLIGHT
TZOFFSETFROM:+0100
TZOFFSETTO:+0200
TZNAME:CEST
DTSTART:20250330T010000
END:DAYLIGHT
BEGIN:STANDARD
TZOFFSETFROM:+0200
TZOFFSETTO:+0100
TZNAME:CET
DTSTART:20251026T010000
END:STANDARD
BEGIN:DAYLIGHT
TZOFFSETFROM:+0100
TZOFFSETTO:+0200
TZNAME:CEST
DTSTART:20260329T010000
END:DAYLIGHT
BEGIN:STANDARD
TZOFFSETFROM:+0200
TZOFFSETTO:+0100
TZNAME:CET
DTSTART:20261025T010000
END:STANDARD
END:VTIMEZONE
BEGIN:VEVENT
DTSTART;TZID=Europe/Paris:20251231T203000
DTEND;TZID=Europe/Paris:20251231T203000
DTSTAMP:20260425T053207
CREATED:20251230T075041Z
LAST-MODIFIED:20251230T075041Z
UID:10001587-1767213000-1767213000@ccpc51.fr
SUMMARY:Réveillon du 31 décembre
DESCRIPTION:Le Comité des Fêtes de Troissy-Bouquigny organise son réveillon du 31 décembre. \nAu programme de la soirée :\n– Repas : apéritif\, petits fours salés\, foie gras\, huîtres\, saumon fumé\, buffet froid\, salade fromage\, dessert\, café et soupe à l’oignon\n– soirée dansante animée par Rod Music\n***Aucune vente de boisson sur place/Venir avec ses bouteilles***
URL:https://ccpc51.fr/evenement/reveillon-du-31-decembre/
LOCATION:Salle Daniel Lhermitte à TROISSY
CATEGORIES:Soirée à thème
ATTACH;FMTTYPE=image/png:https://ccpc51.fr/wp-content/uploads/2025/12/happy-new-year-1.png
ORGANIZER;CN="Comit%C3%A9 des F%C3%AAtes de Troissy-Bouquigny":MAILTO:mairie@troissy-bouquigny.fr
END:VEVENT
BEGIN:VEVENT
DTSTART;TZID=Europe/Paris:20251214T100000
DTEND;TZID=Europe/Paris:20251214T190000
DTSTAMP:20260425T053207
CREATED:20250709T144445Z
LAST-MODIFIED:20250709T144445Z
UID:10001289-1765706400-1765738800@ccpc51.fr
SUMMARY:Marché de Noël - Troissy
DESCRIPTION:Le Comité des Fêtes de Troissy-Bouquigny organise le dimanche 14 décembre 2025\, son marché de Noël. \nArtisanat et Gastronomie seront à l’honneur : chocolats\, produits fumés\, huîtres\, bijoux\, savons\, bougies\, biscuits\, peluches en crochet\, couture\, tourneur sur bois\, bien-être\, miel… \nBuvette & restauration sur place / Vente de Paëlla & Cassoulet à emporter / Vin chaud – Crêpes \n***visite du Père Noël à 14h00***
URL:https://ccpc51.fr/evenement/marche-de-noel-troissy/
LOCATION:Salle des fêtes à TROISSY
CATEGORIES:Marché de Noël,Meeting
ATTACH;FMTTYPE=image/jpeg:https://ccpc51.fr/wp-content/uploads/2025/07/marche-de-noel-troissy.jpg
ORGANIZER;CN="Comit%C3%A9 des F%C3%AAtes de Troissy-Bouquigny":MAILTO:mairie@troissy-bouquigny.fr
END:VEVENT
BEGIN:VEVENT
DTSTART;TZID=Europe/Paris:20250614T123000
DTEND;TZID=Europe/Paris:20250614T123000
DTSTAMP:20260425T053207
CREATED:20250522T074117Z
LAST-MODIFIED:20250522T074117Z
UID:10000856-1749904200-1749904200@ccpc51.fr
SUMMARY:Fête Champêtre
DESCRIPTION:Le Comité des fêtes de Troissy-Bouquigny vous invite à une Fête Champêtre le samedi 14 juin 2025.\n\nPour l’occasion des animations vous sont proposées :\n– Barbecue : poulet ou saucisses – chips- salade – fromage – dessert\n– Après-midi détente\, tennis\, pétanque\n– buvette sur place\n\n** Sur inscription**
URL:https://ccpc51.fr/evenement/fete-champetre-3/
LOCATION:Terrain de tennis de Troissy\, TROISSY\, 51700\, France
CATEGORIES:Fête patronale
ATTACH;FMTTYPE=image/png:https://ccpc51.fr/wp-content/uploads/2025/05/fete-champetre.png
ORGANIZER;CN="Comit%C3%A9 des F%C3%AAtes de Troissy-Bouquigny":MAILTO:mairie@troissy-bouquigny.fr
END:VEVENT
BEGIN:VEVENT
DTSTART;TZID=Europe/Paris:20241215T100000
DTEND;TZID=Europe/Paris:20241215T190000
DTSTAMP:20260425T053207
CREATED:20241030T144614Z
LAST-MODIFIED:20241030T144614Z
UID:10000630-1734256800-1734289200@ccpc51.fr
SUMMARY:4ème édition du Marché de Noël - Troissy
DESCRIPTION:Le Comité des Fêtes de Troissy-Bouquigny organise le dimanche 15 décembre 2024\, la 4ème édition de son marché de Noël. \nArtisanat et Gastronomie seront à l’honneur : chocolats\, produits fumés\, huîtres\, bijoux\, savons\, bougies\, biscuits\, peluches en crochet\, couture\, tourneur sur bois\, bien-être\, miel… \nBuvette & restauration sur place / Vente de Paëlla & Cassoulet à emporter / Vin chaud – Crêpes \n***visite du Père Noël à 14h00***
URL:https://ccpc51.fr/evenement/4eme-edition-du-marche-de-noel-troissy/
LOCATION:Salle des fêtes à TROISSY
CATEGORIES:Marché
ATTACH;FMTTYPE=image/jpeg:https://ccpc51.fr/wp-content/uploads/2024/10/marche-de-noel-de-troissy.jpg
ORGANIZER;CN="Comit%C3%A9 des F%C3%AAtes de Troissy-Bouquigny":MAILTO:mairie@troissy-bouquigny.fr
END:VEVENT
END:VCALENDAR