BEGIN:VCALENDAR
VERSION:2.0
PRODID:-//Communauté de Communes des Paysages de la Champagne - ECPv6.15.17//NONSGML v1.0//EN
CALSCALE:GREGORIAN
METHOD:PUBLISH
X-ORIGINAL-URL:https://ccpc51.fr
X-WR-CALDESC:Évènements pour Communauté de Communes des Paysages de la Champagne
REFRESH-INTERVAL;VALUE=DURATION:PT1H
X-Robots-Tag:noindex
X-PUBLISHED-TTL:PT1H
BEGIN:VTIMEZONE
TZID:Europe/Paris
BEGIN:DAYLIGHT
TZOFFSETFROM:+0100
TZOFFSETTO:+0200
TZNAME:CEST
DTSTART:20250330T010000
END:DAYLIGHT
BEGIN:STANDARD
TZOFFSETFROM:+0200
TZOFFSETTO:+0100
TZNAME:CET
DTSTART:20251026T010000
END:STANDARD
BEGIN:DAYLIGHT
TZOFFSETFROM:+0100
TZOFFSETTO:+0200
TZNAME:CEST
DTSTART:20260329T010000
END:DAYLIGHT
BEGIN:STANDARD
TZOFFSETFROM:+0200
TZOFFSETTO:+0100
TZNAME:CET
DTSTART:20261025T010000
END:STANDARD
BEGIN:DAYLIGHT
TZOFFSETFROM:+0100
TZOFFSETTO:+0200
TZNAME:CEST
DTSTART:20270328T010000
END:DAYLIGHT
BEGIN:STANDARD
TZOFFSETFROM:+0200
TZOFFSETTO:+0100
TZNAME:CET
DTSTART:20271031T010000
END:STANDARD
END:VTIMEZONE
BEGIN:VEVENT
DTSTART;TZID=Europe/Paris:20260612T183000
DTEND;TZID=Europe/Paris:20260612T220000
DTSTAMP:20260424T223351
CREATED:20251229T155435Z
LAST-MODIFIED:20251229T160039Z
UID:10001583-1781289000-1781301600@ccpc51.fr
SUMMARY:Les Afters de l'été - Champagne Louis Huot
DESCRIPTION:Votre rendez-vous bimensuel placé sous le signe de la convivialité vous est proposé par les vignerons des Coteaux Sud d’Epernay. \nLes vendredis soir\, de 18h30 à 20h\, retrouvez les vignerons participants : Champagne Didier-Ducos\, Champagne Louis Huot\, Champagne E. Jamart\, Champagne Domaine Lalouelle\, Champagne Lebau-Batiste\, Champagne Michel Hatat\, et Champagne Vollereaux. \nAu programme : ambiance musicale et planches apéritives pour accompagner les champagnes des vignerons de l’association des Coteaux Sud d’Epernay \nL’abus d’alcool est dangereux pour la santé. Consommez avec modération.
URL:https://ccpc51.fr/evenement/les-afters-de-lete-champagne-louis-huot/2026-06-12/
LOCATION:Champagne Louis Huot\, 27 rue Julien Ducos\, SAINT-MARTIN-D'ABLOIS\, 51530
CATEGORIES:Animation viti-vinicole / Portes ouvertes,Soirée à thème
ATTACH;FMTTYPE=image/jpeg:https://ccpc51.fr/wp-content/uploads/2025/12/les-afters-de-l-ete-2.jpg
END:VEVENT
BEGIN:VEVENT
DTSTART;TZID=Europe/Paris:20260613T180000
DTEND;TZID=Europe/Paris:20260613T220000
DTSTAMP:20260424T223351
CREATED:20251229T155435Z
LAST-MODIFIED:20251229T160039Z
UID:10001584-1781373600-1781388000@ccpc51.fr
SUMMARY:Les Afters de l'été - Champagne Louis Huot
DESCRIPTION:Votre rendez-vous bimensuel placé sous le signe de la convivialité vous est proposé par les vignerons des Coteaux Sud d’Epernay. \nLes vendredis soir\, de 18h30 à 20h\, retrouvez les vignerons participants : Champagne Didier-Ducos\, Champagne Louis Huot\, Champagne E. Jamart\, Champagne Domaine Lalouelle\, Champagne Lebau-Batiste\, Champagne Michel Hatat\, et Champagne Vollereaux. \nAu programme : ambiance musicale et planches apéritives pour accompagner les champagnes des vignerons de l’association des Coteaux Sud d’Epernay \nL’abus d’alcool est dangereux pour la santé. Consommez avec modération.
URL:https://ccpc51.fr/evenement/les-afters-de-lete-champagne-louis-huot/2026-06-13/
LOCATION:Champagne Louis Huot\, 27 rue Julien Ducos\, SAINT-MARTIN-D'ABLOIS\, 51530
CATEGORIES:Animation viti-vinicole / Portes ouvertes,Soirée à thème
ATTACH;FMTTYPE=image/jpeg:https://ccpc51.fr/wp-content/uploads/2025/12/les-afters-de-l-ete-2.jpg
END:VEVENT
BEGIN:VEVENT
DTSTART;TZID=Europe/Paris:20260628T100000
DTEND;TZID=Europe/Paris:20260628T100000
DTSTAMP:20260424T223351
CREATED:20260309T124805Z
LAST-MODIFIED:20260309T124805Z
UID:10001918-1782640800-1782640800@ccpc51.fr
SUMMARY:Escapade pétillante et gourmande en Champagne
DESCRIPTION:Amateurs d’Art de vivre à la française\, de gastronomie avec ses mets et ses vins de champagne\, de patrimoine culturel avec ses magnifiques paysages et ses traditions\, l’Escapade Pétillante et Gourmande en Champagne est faite pour vous ! \nVenez découvrir notre terroir\, ceci à travers un événement oenotouristique unique et incontournable labélisé depuis plusieurs années Vignobles et découvertes\, qui a lieu chaque année le 4ème dimanche de juin. C’est un week-end convivial\, fait de rencontres et d’échanges avec les vignerons entourés d’une équipe de 150 bénévoles. \nRéservation à partir du lundi 2 mars – 10h
URL:https://ccpc51.fr/evenement/escapade-petillante-et-gourmande-en-champagne/
LOCATION:SAINT MARTIN D’ABLOIS\, SAINT-MARTIN-D'ABLOIS\, 51530
CATEGORIES:Randonnée
ATTACH;FMTTYPE=image/png:https://ccpc51.fr/wp-content/uploads/2026/03/capture-d-ecran-2026-03-02-a-131435.png
END:VEVENT
BEGIN:VEVENT
DTSTART;TZID=Europe/Paris:20260703T183000
DTEND;TZID=Europe/Paris:20260703T220000
DTSTAMP:20260424T223351
CREATED:20251229T160804Z
LAST-MODIFIED:20251229T160804Z
UID:10001585-1783103400-1783116000@ccpc51.fr
SUMMARY:Les Afters de l'été - Champagne Domaine Lalouelle
DESCRIPTION:Votre rendez-vous bimensuel placé sous le signe de la convivialité vous est proposé par les vignerons des Coteaux Sud d’Epernay. \nLes vendredis soir\, de 18h30 à 20h\, retrouvez les vignerons participants : Champagne Didier-Ducos\, Champagne Louis Huot\, Champagne E. Jamart\, Champagne Domaine Lalouelle\, Champagne Lebau-Batiste\, Champagne Michel Hatat\, et Champagne Vollereaux. \nAu programme : ambiance musicale et planches apéritives pour accompagner les champagnes des vignerons de l’association des Coteaux Sud d’Epernay \nL’abus d’alcool est dangereux pour la santé. Consommez avec modération.
URL:https://ccpc51.fr/evenement/les-afters-de-lete-champagne-domaine-lalouelle/2026-07-03/
LOCATION:Champagne Domaine Lalouelle\, 50 route de vinay\, SAINT-MARTIN-D'ABLOIS\, 51530
CATEGORIES:Animation viti-vinicole / Portes ouvertes,Soirée à thème
ATTACH;FMTTYPE=image/jpeg:https://ccpc51.fr/wp-content/uploads/2025/12/les-afters-de-l-ete-2.jpg
END:VEVENT
BEGIN:VEVENT
DTSTART;TZID=Europe/Paris:20260704T183000
DTEND;TZID=Europe/Paris:20260704T220000
DTSTAMP:20260424T223351
CREATED:20251229T160804Z
LAST-MODIFIED:20251229T160804Z
UID:10001586-1783189800-1783202400@ccpc51.fr
SUMMARY:Les Afters de l'été - Champagne Domaine Lalouelle
DESCRIPTION:Votre rendez-vous bimensuel placé sous le signe de la convivialité vous est proposé par les vignerons des Coteaux Sud d’Epernay. \nLes vendredis soir\, de 18h30 à 20h\, retrouvez les vignerons participants : Champagne Didier-Ducos\, Champagne Louis Huot\, Champagne E. Jamart\, Champagne Domaine Lalouelle\, Champagne Lebau-Batiste\, Champagne Michel Hatat\, et Champagne Vollereaux. \nAu programme : ambiance musicale et planches apéritives pour accompagner les champagnes des vignerons de l’association des Coteaux Sud d’Epernay \nL’abus d’alcool est dangereux pour la santé. Consommez avec modération.
URL:https://ccpc51.fr/evenement/les-afters-de-lete-champagne-domaine-lalouelle/2026-07-04/
LOCATION:Champagne Domaine Lalouelle\, 50 route de vinay\, SAINT-MARTIN-D'ABLOIS\, 51530
CATEGORIES:Animation viti-vinicole / Portes ouvertes,Soirée à thème
ATTACH;FMTTYPE=image/jpeg:https://ccpc51.fr/wp-content/uploads/2025/12/les-afters-de-l-ete-2.jpg
END:VEVENT
END:VCALENDAR